BEGIN:VCALENDAR
VERSION:2.0
PRODID:-//wp-events-plugin.com//7.2.3.1//EN
TZID:Europe/London
X-WR-TIMEZONE:Europe/London
BEGIN:VEVENT
UID:11@sh4.org.uk
DTSTART;TZID=Europe/London;VALUE=DATE:20160226
DTEND;TZID=Europe/London;VALUE=DATE:20160229
DTSTAMP:20160421T142040Z
URL:https://www.sh4.org.uk/events/1016-hash-weekend-china-fleet/
SUMMARY:South Hams H4 Hash 1012 and 1013 - 2016 Hash Weekend - China Fleet 
 Club - China Fleet Club
DESCRIPTION:26/02/2016\nThe weekend will commence on Friday at 18:00 when w
 e shall rendezvous in the main bar for a bite to eat (own expense ) or a d
 rink\, then on to visit the delights of Saltash which is 1/1/2 miles away.
  Enjoy the night and each other's company.\n\n27/02/16\nAfter breakfast ( 
 included) or before enjoy the facilities.\n11:00 for Hash 1010 which will 
 include a pub stop.  On return more activities or watch Rugby or just dri
 nk in one of the bars.\n\n19:00 meet for the evening's entertainment which
  will include a banquet with wine and dancing until late\, bar closes 0100
 . Not to forget our rewards for those who may or may not deserve .\n\n28/0
 2/2016\nAfter breakfast Sunday hair of dog hash\, you may depart or remain
  to use whatever takes your fancy. - 26/02/2016\nThe weekend will commence
  on Friday at 18:00 when we shall rendezvous in the main bar for a bite to
  eat (own expense ) or a drink\, then on to visit the delights of Saltash 
 which is 1/1/2 miles away. Enjoy the night and each other's company.\n\n27
 /02/16\nAfter breakfast ( included) or before enjoy the facilities.\n11:00
  for Hash 1010 which will include a pub stop.  On return more activities 
 or watch Rugby or just drink in one of the bars.\n\n19:00 meet for the eve
 ning's entertainment which will include a banquet with wine and dancing un
 til late\, bar closes 0100. Not to forget our rewards for those who may or
  may not deserve .\n\n28/02/2016\nAfter breakfast Sunday hair of dog hash\
 , you may depart or remain to use whatever takes your fancy.
ATTACH;FMTTYPE=image/jpeg:https://www.sh4.org.uk/wp-content/uploads/2015/1
 0/locations-china-fleet.jpg
CATEGORIES:Away Events,Hash Trails,Social Events
LOCATION:China Fleet Club China Fleet Club\, Saltash\, Devon\, PL12 6LJ
GEO:50.4185993;-4.214717699999937
X-APPLE-STRUCTURED-LOCATION;VALUE=URI;X-ADDRESS=China Fleet Club\, Saltash\
 , Devon\, PL12 6LJ\, United Kingdom;X-APPLE-RADIUS=100;X-TITLE=China Fleet
  Club:geo:50.4185993,-4.214717699999937
END:VEVENT
BEGIN:VTIMEZONE
TZID:Europe/London
X-LIC-LOCATION:Europe/London
BEGIN:STANDARD
DTSTART:20151025T010000
TZOFFSETFROM:+0100
TZOFFSETTO:+0000
TZNAME:GMT
END:STANDARD
END:VTIMEZONE
END:VCALENDAR