BEGIN:VCALENDAR
VERSION:2.0
PRODID:-//wp-events-plugin.com//7.2.3.1//EN
TZID:Europe/London
X-WR-TIMEZONE:Europe/London
BEGIN:VEVENT
UID:127@sh4.org.uk
DTSTART;TZID=Europe/London:20170809T193000
DTEND;TZID=Europe/London:20170809T230000
DTSTAMP:20170802T085910Z
URL:https://www.sh4.org.uk/events/1096-yetsonais-farm-east-allington/
SUMMARY:South Hams H4 Hash 1096 - Hare's House - Yetsonais Farm
DESCRIPTION:Cold buffet available but bring your own food for BBQ and Bring
  your own Drink - Cold buffet available but bring your own food for BBQ an
 d Bring your own Drink
CATEGORIES:Hash Trails
LOCATION:Hare's House - Yetsonais Farm Yetsonais Farm\, Fallapit Turn \, Ea
 st Allington\, Devon\, TQ9 7QE
GEO:50.33011017565013;-3.743353835473613
X-APPLE-STRUCTURED-LOCATION;VALUE=URI;X-ADDRESS=Yetsonais Farm\, Fallapit T
 urn \, East Allington\, Devon\, TQ9 7QE\, United Kingdom;X-APPLE-RADIUS=10
 0;X-TITLE=Hare's House - Yetsonais Farm:geo:50.33011017565013,-3.743353835
 473613
END:VEVENT
BEGIN:VTIMEZONE
TZID:Europe/London
X-LIC-LOCATION:Europe/London
BEGIN:DAYLIGHT
DTSTART:20170326T020000
TZOFFSETFROM:+0000
TZOFFSETTO:+0100
TZNAME:BST
END:DAYLIGHT
END:VTIMEZONE
END:VCALENDAR