BEGIN:VCALENDAR
VERSION:2.0
PRODID:-//wp-events-plugin.com//7.2.3.1//EN
TZID:Europe/London
X-WR-TIMEZONE:Europe/London
BEGIN:VEVENT
UID:521@sh4.org.uk
DTSTART;TZID=Europe/London:20240821T193000
DTEND;TZID=Europe/London:20240821T230000
DTSTAMP:20240820T141012Z
URL:https://www.sh4.org.uk/events/1483/
SUMMARY:South Hams H4 Hash 1483 - Foxhound
DESCRIPTION: - 
CATEGORIES:Hash Trails
LOCATION:Foxhound Kingsbridge Road\, Brixton\, Devon\, PL8 2AH
GEO:50.351115;-4.035576
X-APPLE-STRUCTURED-LOCATION;VALUE=URI;X-ADDRESS=Kingsbridge Road\, Brixton\
 , Devon\, PL8 2AH\, United Kingdom;X-APPLE-RADIUS=100;X-TITLE=Foxhound:geo
 :50.351115,-4.035576
END:VEVENT
BEGIN:VTIMEZONE
TZID:Europe/London
X-LIC-LOCATION:Europe/London
BEGIN:DAYLIGHT
DTSTART:20240331T020000
TZOFFSETFROM:+0000
TZOFFSETTO:+0100
TZNAME:BST
END:DAYLIGHT
END:VTIMEZONE
END:VCALENDAR