BEGIN:VCALENDAR
VERSION:2.0
PRODID:-//wp-events-plugin.com//7.2.3.1//EN
TZID:Europe/London
X-WR-TIMEZONE:Europe/London
BEGIN:VEVENT
UID:42@sh4.org.uk
DTSTART;TZID=Europe/London:20160413T193000
DTEND;TZID=Europe/London:20160413T230000
DTSTAMP:20160521T131315Z
URL:https://www.sh4.org.uk/events/h/
SUMMARY:South Hams H4 Hash 1020 - Watermark Car Park
DESCRIPTION:On Down at The Duke of Cornwall. Hash Food at the Duke for £1.
    The Duke of Cornwall is a 7 minute walk from the Car Park  Google di
 rections here.\n\nThe Watermark Details - On Down at The Duke of Cornwall
 . Hash Food at the Duke for £1.   The Duke of Cornwall is a 7 minute wa
 lk from the Car Park  Google directions here.\n\nThe Watermark Details
CATEGORIES:Hash Trails
LOCATION:Watermark Car Park St Leonards Road\, Ivybridge\, Devon \, PL21 0S
 Z
GEO:50.389657;-3.919149
X-APPLE-STRUCTURED-LOCATION;VALUE=URI;X-ADDRESS=St Leonards Road\, Ivybridg
 e\, Devon \, PL21 0SZ\, United Kingdom;X-APPLE-RADIUS=100;X-TITLE=Watermar
 k Car Park:geo:50.389657,-3.919149
END:VEVENT
BEGIN:VTIMEZONE
TZID:Europe/London
X-LIC-LOCATION:Europe/London
BEGIN:DAYLIGHT
DTSTART:20160327T020000
TZOFFSETFROM:+0000
TZOFFSETTO:+0100
TZNAME:BST
END:DAYLIGHT
END:VTIMEZONE
END:VCALENDAR