BEGIN:VCALENDAR
VERSION:2.0
PRODID:-//wp-events-plugin.com//7.2.3.1//EN
TZID:Europe/London
X-WR-TIMEZONE:Europe/London
BEGIN:VEVENT
UID:24@sh4.org.uk
DTSTART;TZID=Europe/London:19980506T193000
DTEND;TZID=Europe/London:19980506T231500
DTSTAMP:20210707T094644Z
URL:https://www.sh4.org.uk/events/hash-0001/
SUMMARY:South Hams H4 Hash 0001 - Kingsbridge Leisure Centre
DESCRIPTION:This was it\, the first Hash! - This was it\, the first Hash!
ATTACH;FMTTYPE=image/jpeg:https://www.sh4.org.uk/wp-content/uploads/2017/0
 3/SH4-Flyer.jpg
CATEGORIES:Hash Trails
LOCATION:Kingsbridge Leisure Centre Rope Walk\, Kingsbridge\, Devon\, TQ7 1
 HH
GEO:50.280351;-3.776142
X-APPLE-STRUCTURED-LOCATION;VALUE=URI;X-ADDRESS=Rope Walk\, Kingsbridge\, D
 evon\, TQ7 1HH\, United Kingdom;X-APPLE-RADIUS=100;X-TITLE=Kingsbridge Lei
 sure Centre:geo:50.280351,-3.776142
END:VEVENT
BEGIN:VTIMEZONE
TZID:Europe/London
X-LIC-LOCATION:Europe/London
BEGIN:DAYLIGHT
DTSTART:19980329T020000
TZOFFSETFROM:+0000
TZOFFSETTO:+0100
TZNAME:BST
END:DAYLIGHT
END:VTIMEZONE
END:VCALENDAR