BEGIN:VCALENDAR
VERSION:2.0
PRODID:-//wp-events-plugin.com//7.2.3.1//EN
TZID:Europe/London
X-WR-TIMEZONE:Europe/London
BEGIN:VEVENT
UID:19@sh4.org.uk
DTSTART;TZID=Europe/London:20151230T193000
DTEND;TZID=Europe/London:20151230T230000
DTSTAMP:20151213T102723Z
URL:https://www.sh4.org.uk/events/hash-1002-the-foxhound-brixton/
SUMMARY:South Hams H4 Hash 1003 - The Foxhound - Brixton - Foxhound
DESCRIPTION:Last hash of the 2015! - Last hash of the 2015!
CATEGORIES:Hash Trails
LOCATION:Foxhound Kingsbridge Road\, Brixton\, Devon\, PL8 2AH
GEO:50.351115;-4.035576
X-APPLE-STRUCTURED-LOCATION;VALUE=URI;X-ADDRESS=Kingsbridge Road\, Brixton\
 , Devon\, PL8 2AH\, United Kingdom;X-APPLE-RADIUS=100;X-TITLE=Foxhound:geo
 :50.351115,-4.035576
END:VEVENT
BEGIN:VTIMEZONE
TZID:Europe/London
X-LIC-LOCATION:Europe/London
BEGIN:STANDARD
DTSTART:20151025T010000
TZOFFSETFROM:+0100
TZOFFSETTO:+0000
TZNAME:GMT
END:STANDARD
END:VTIMEZONE
END:VCALENDAR