BEGIN:VCALENDAR
VERSION:2.0
PRODID:-//wp-events-plugin.com//7.2.3.1//EN
TZID:Europe/London
X-WR-TIMEZONE:Europe/London
BEGIN:VEVENT
UID:26@sh4.org.uk
DTSTART;TZID=Europe/London:20160127T193000
DTEND;TZID=Europe/London:20160127T230000
DTSTAMP:20160118T201417Z
URL:https://www.sh4.org.uk/events/hash-1007/
SUMMARY:South Hams H4 Hash 1007 - Horse and Groom
DESCRIPTION:Venue\, Horse and Groom\, Bittaford\, Ivybridge - Venue\, Horse
  and Groom\, Bittaford\, Ivybridge
CATEGORIES:Hash Trails
LOCATION:Horse and Groom B3213\, Bittaford\, Devon\, PL21 0El
GEO:50.397446;-3.877065
X-APPLE-STRUCTURED-LOCATION;VALUE=URI;X-ADDRESS=B3213\, Bittaford\, Devon\,
  PL21 0El\, United Kingdom;X-APPLE-RADIUS=100;X-TITLE=Horse and Groom:geo:
 50.397446,-3.877065
END:VEVENT
BEGIN:VTIMEZONE
TZID:Europe/London
X-LIC-LOCATION:Europe/London
BEGIN:STANDARD
DTSTART:20151025T010000
TZOFFSETFROM:+0100
TZOFFSETTO:+0000
TZNAME:GMT
END:STANDARD
END:VTIMEZONE
END:VCALENDAR