BEGIN:VCALENDAR
VERSION:2.0
PRODID:-//wp-events-plugin.com//7.2.3.1//EN
TZID:Europe/London
X-WR-TIMEZONE:Europe/London
BEGIN:VEVENT
UID:28@sh4.org.uk
DTSTART;TZID=Europe/London:20160210T193000
DTEND;TZID=Europe/London:20160210T230000
DTSTAMP:20160118T201140Z
URL:https://www.sh4.org.uk/events/hash-1009/
SUMMARY:South Hams H4 Hash 1009 - Dartmouth Park and Ride Car Park
DESCRIPTION:Meet at the Dartmouth Park and ride car park.\n\nOn Down at the
  George and Dragon\, Mayors Avenue\, Dartmouth\, TQ6 9NG. - Meet at the Da
 rtmouth Park and ride car park.\n\nOn Down at the George and Dragon\, Mayo
 rs Avenue\, Dartmouth\, TQ6 9NG.
CATEGORIES:Hash Trails
LOCATION:Dartmouth Park and Ride Car Park Off Townstal Road\, Dartmouth\, D
 evon\, TQ6 9LW
GEO:50.346697;-3.60186
X-APPLE-STRUCTURED-LOCATION;VALUE=URI;X-ADDRESS=Off Townstal Road\, Dartmou
 th\, Devon\, TQ6 9LW\, United Kingdom;X-APPLE-RADIUS=100;X-TITLE=Dartmouth
  Park and Ride Car Park:geo:50.346697,-3.60186
END:VEVENT
BEGIN:VTIMEZONE
TZID:Europe/London
X-LIC-LOCATION:Europe/London
BEGIN:STANDARD
DTSTART:20151025T010000
TZOFFSETFROM:+0100
TZOFFSETTO:+0000
TZNAME:GMT
END:STANDARD
END:VTIMEZONE
END:VCALENDAR