BEGIN:VCALENDAR
VERSION:2.0
PRODID:-//wp-events-plugin.com//7.2.3.1//EN
TZID:Europe/London
X-WR-TIMEZONE:Europe/London
BEGIN:VEVENT
UID:29@sh4.org.uk
DTSTART;TZID=Europe/London:20160217T193000
DTEND;TZID=Europe/London:20160217T230000
DTSTAMP:20160417T205441Z
URL:https://www.sh4.org.uk/events/hash-1010/
SUMMARY:South Hams H4 Hash 1010 - The Official 1010 Hash !  Super Heroes Fa
 ncy Dress - Watermans Arms
DESCRIPTION:Come ready to run as your favourite Super Hero !! - Come ready 
 to run as your favourite Super Hero !!
CATEGORIES:Hash Trails
LOCATION:Watermans Arms Bow Bridge\, Ashprington\, Totnes\, Devon\, TQ9 7EG
GEO:50.39656;-3.672692
X-APPLE-STRUCTURED-LOCATION;VALUE=URI;X-ADDRESS=Bow Bridge\, Ashprington\, 
 Totnes\, Devon\, TQ9 7EG\, United Kingdom;X-APPLE-RADIUS=100;X-TITLE=Water
 mans Arms:geo:50.39656,-3.672692
END:VEVENT
BEGIN:VTIMEZONE
TZID:Europe/London
X-LIC-LOCATION:Europe/London
BEGIN:STANDARD
DTSTART:20151025T010000
TZOFFSETFROM:+0100
TZOFFSETTO:+0000
TZNAME:GMT
END:STANDARD
END:VTIMEZONE
END:VCALENDAR