BEGIN:VCALENDAR
VERSION:2.0
PRODID:-//wp-events-plugin.com//7.2.3.1//EN
TZID:Europe/London
X-WR-TIMEZONE:Europe/London
BEGIN:VEVENT
UID:32@sh4.org.uk
DTSTART;TZID=Europe/London:20160309T190000
DTEND;TZID=Europe/London:20160309T230000
DTSTAMP:20161119T160410Z
URL:https://www.sh4.org.uk/events/hash-1015/
SUMMARY:South Hams H4 Hash 1015 - Cornwood Inn
DESCRIPTION:HEREWITH THE WORDS FOR HASH 1015\, Cornwood according to Spotty
  Botty:-\n54 hashers turned up at the Cornwood Inn in the slightly cold an
 d windy weather. Piddler immediately earned himself a down down for queue 
 jumping\, standing in front of checks and spectacularly failed to achieve 
 the very low standard set by SH4 but all agreed his ‘Pillock of the year
 ’ t-shirt was very well deserved.\n\nTongue down under or should that be
  STUNG down under (a slight slip of the tongue by the RA) was driven to th
 e hash by Cowpat – Troughdiver being the gent that he is gave up his sea
 t and sat in the back with Stung down under only to be rewarded with a str
 ip tease as SDU changed en route\, Troughie was rather quiet for the eveni
 ng\, somewhat traumatised being a sensitive soul.\nAnd then to the fallers
 ……..Damp Patch (who was actually walking) managed to slip over but not
 hing could compare to Traffic Jam who was resplendent in her cerise top an
 d tight fitting trousers completed a parachute roll.\n\nNot forgetting to 
 welcome again members of the Plympton Hash in their fetching green tops\, 
 Cum Tonight fell over in some laurel bushes and recreated a scene from gor
 illas in the mist.\nBarbie and Just Prick (JP) seemed to be morphing in to
  the hairy bikers. Speaking of Barbie it had to be mentioned that Barbie h
 as just published his latest book\, Squashed Balls was thrilled to have bo
 ught a copy and have it signed by the author. He announced it was a very g
 ood read….though he hadn’t actually read it.\n\nHot Totty who brought 
 along virgin Claire\, certainly demonstrated how some hashers are very ent
 husiastic and showed boundless enthusiasm\, and finally Doris returned to 
 the pub last after doing the short?!\n\nDown Downs awarded to Piddler\, Cu
 m Tonight\, Barbie\, Stung Down Under\, Hot Totty and Knee Trembler\n[wpfi
 lebase tag=file id=470 /] - HEREWITH THE WORDS FOR HASH 1015\, Cornwood ac
 cording to Spotty Botty:-\n54 hashers turned up at the Cornwood Inn in the
  slightly cold and windy weather. Piddler immediately earned himself a dow
 n down for queue jumping\, standing in front of checks and spectacularly f
 ailed to achieve the very low standard set by SH4 but all agreed his ‘Pi
 llock of the year’ t-shirt was very well deserved.\n\nTongue down under 
 or should that be STUNG down under (a slight slip of the tongue by the RA)
  was driven to the hash by Cowpat – Troughdiver being the gent that he i
 s gave up his seat and sat in the back with Stung down under only to be re
 warded with a strip tease as SDU changed en route\, Troughie was rather qu
 iet for the evening\, somewhat traumatised being a sensitive soul.\nAnd th
 en to the fallers……..Damp Patch (who was actually walking) managed to 
 slip over but nothing could compare to Traffic Jam who was resplendent in 
 her cerise top and tight fitting trousers completed a parachute roll.\n\nN
 ot forgetting to welcome again members of the Plympton Hash in their fetch
 ing green tops\, Cum Tonight fell over in some laurel bushes and recreated
  a scene from gorillas in the mist.\nBarbie and Just Prick (JP) seemed to 
 be morphing in to the hairy bikers. Speaking of Barbie it had to be mentio
 ned that Barbie has just published his latest book\, Squashed Balls was th
 rilled to have bought a copy and have it signed by the author. He announce
 d it was a very good read….though he hadn’t actually read it.\n\nHot T
 otty who brought along virgin Claire\, certainly demonstrated how some has
 hers are very enthusiastic and showed boundless enthusiasm\, and finally D
 oris returned to the pub last after doing the short?!\n\nDown Downs awarde
 d to Piddler\, Cum Tonight\, Barbie\, Stung Down Under\, Hot Totty and Kne
 e Trembler\n[wpfilebase tag=file id=470 /]
CATEGORIES:Hash Trails
LOCATION:Cornwood Inn The Square\, Cornwood\, Devon\, PL21 9PU\, Devon
GEO:50.420318;-3.964434
X-APPLE-STRUCTURED-LOCATION;VALUE=URI;X-ADDRESS=The Square\, Cornwood\, Dev
 on\, PL21 9PU\, Devon\, United Kingdom;X-APPLE-RADIUS=100;X-TITLE=Cornwood
  Inn:geo:50.420318,-3.964434
END:VEVENT
BEGIN:VTIMEZONE
TZID:Europe/London
X-LIC-LOCATION:Europe/London
BEGIN:STANDARD
DTSTART:20151025T010000
TZOFFSETFROM:+0100
TZOFFSETTO:+0000
TZNAME:GMT
END:STANDARD
END:VTIMEZONE
END:VCALENDAR