BEGIN:VCALENDAR
VERSION:2.0
PRODID:-//wp-events-plugin.com//7.2.3.1//EN
TZID:Europe/London
X-WR-TIMEZONE:Europe/London
BEGIN:VEVENT
UID:40@sh4.org.uk
DTSTART;TZID=Europe/London:20160330T193000
DTEND;TZID=Europe/London:20160330T230000
DTSTAMP:20160521T131544Z
URL:https://www.sh4.org.uk/events/hash-1018-the-modbury-inn/
SUMMARY:South Hams H4 Hash 1018 - Modbury Inn
DESCRIPTION:Parking at Lower Car park in Modbury - Parking at Lower Car par
 k in Modbury
CATEGORIES:Hash Trails
LOCATION:Modbury Inn Brownston Street\, Modbury\, Devon\, PL21 0RQ
GEO:50.350322;-3.886254
X-APPLE-STRUCTURED-LOCATION;VALUE=URI;X-ADDRESS=Brownston Street\, Modbury\
 , Devon\, PL21 0RQ\, United Kingdom;X-APPLE-RADIUS=100;X-TITLE=Modbury Inn
 :geo:50.350322,-3.886254
END:VEVENT
BEGIN:VTIMEZONE
TZID:Europe/London
X-LIC-LOCATION:Europe/London
BEGIN:DAYLIGHT
DTSTART:20160327T020000
TZOFFSETFROM:+0000
TZOFFSETTO:+0100
TZNAME:BST
END:DAYLIGHT
END:VTIMEZONE
END:VCALENDAR