BEGIN:VCALENDAR
VERSION:2.0
PRODID:-//wp-events-plugin.com//7.2.3.1//EN
TZID:Europe/London
X-WR-TIMEZONE:Europe/London
BEGIN:VEVENT
UID:37@sh4.org.uk
DTSTART;TZID=Europe/London:20160504T193000
DTEND;TZID=Europe/London:20160504T230000
DTSTAMP:20160521T131059Z
URL:https://www.sh4.org.uk/events/hash-1023-the-pigs-nose/
SUMMARY:South Hams H4 Hash 1023 - Pig's Nose Inn
DESCRIPTION: - 
CATEGORIES:Hash Trails
LOCATION:Pig's Nose Inn The Green\, East Prawle\, Devon\, TQ7 2BY
GEO:50.215038;-3.709322
X-APPLE-STRUCTURED-LOCATION;VALUE=URI;X-ADDRESS=The Green\, East Prawle\, D
 evon\, TQ7 2BY\, United Kingdom;X-APPLE-RADIUS=100;X-TITLE=Pig's Nose Inn:
 geo:50.215038,-3.709322
END:VEVENT
BEGIN:VTIMEZONE
TZID:Europe/London
X-LIC-LOCATION:Europe/London
BEGIN:DAYLIGHT
DTSTART:20160327T020000
TZOFFSETFROM:+0000
TZOFFSETTO:+0100
TZNAME:BST
END:DAYLIGHT
END:VTIMEZONE
END:VCALENDAR