BEGIN:VCALENDAR
VERSION:2.0
PRODID:-//wp-events-plugin.com//7.2.3.1//EN
TZID:Europe/London
X-WR-TIMEZONE:Europe/London
BEGIN:VEVENT
UID:39@sh4.org.uk
DTSTART;TZID=Europe/London:20160518T193000
DTEND;TZID=Europe/London:20160518T230000
DTSTAMP:20161119T165609Z
URL:https://www.sh4.org.uk/events/hash-1025/
SUMMARY:South Hams H4 Hash 1025 - Dolphin Inn - Kingston
DESCRIPTION:As it turned out\, despite saying try were ok with us coming\, 
 The owners of The Dolphin phoned Goolie and said they'd be shut.  So it 
 was meet at the Dolphin and convene at the very Hash friendly Journey's En
 d in Ringmore.\n\n[wpfilebase tag=file id=479 /] - As it turned out\, desp
 ite saying try were ok with us coming\, The owners of The Dolphin phoned G
 oolie and said they'd be shut.  So it was meet at the Dolphin and conven
 e at the very Hash friendly Journey's End in Ringmore.\n\n[wpfilebase tag=
 file id=479 /]
CATEGORIES:Hash Trails
LOCATION:Dolphin Inn - Kingston The Dolphin\, Kingston\, Devon\, TQ7 4QE
GEO:50.314222;-3.91746
X-APPLE-STRUCTURED-LOCATION;VALUE=URI;X-ADDRESS=The Dolphin\, Kingston\, De
 von\, TQ7 4QE\, United Kingdom;X-APPLE-RADIUS=100;X-TITLE=Dolphin Inn - Ki
 ngston:geo:50.314222,-3.91746
END:VEVENT
BEGIN:VTIMEZONE
TZID:Europe/London
X-LIC-LOCATION:Europe/London
BEGIN:DAYLIGHT
DTSTART:20160327T020000
TZOFFSETFROM:+0000
TZOFFSETTO:+0100
TZNAME:BST
END:DAYLIGHT
END:VTIMEZONE
END:VCALENDAR