BEGIN:VCALENDAR
VERSION:2.0
PRODID:-//wp-events-plugin.com//7.2.3.1//EN
TZID:Europe/London
X-WR-TIMEZONE:Europe/London
BEGIN:VEVENT
UID:46@sh4.org.uk
DTSTART;TZID=Europe/London:20160525T193000
DTEND;TZID=Europe/London:20160525T230000
DTSTAMP:20160521T124500Z
URL:https://www.sh4.org.uk/events/hash-1026/
SUMMARY:South Hams H4 Hash 1026 - Cornwood Cricket Club
DESCRIPTION:Jelly Baby and Traffic Jam are laying the Hash from Cornwood Cr
 icket Club.  PL21 9RP (if travelling from direction of Lee Mill or Ivybri
 dge\, turn west (i.e. left) by the Cornwood Inn towards Lutton. The Cr
 icket Club is on a turning to the right. plenty of parking.\nPlease order 
 your food before the Hash\nChips .. £1.30\nCheesy chips .. £1.60\nSausag
 e and chips .. £3Pasties .. £1.80\nHam and cheese panini .. £2.50 - Jel
 ly Baby and Traffic Jam are laying the Hash from Cornwood Cricket Club.  
 PL21 9RP (if travelling from direction of Lee Mill or Ivybridge\, turn we
 st (i.e. left) by the Cornwood Inn towards Lutton. The Cricket Club is 
 on a turning to the right. plenty of parking.\nPlease order your food befo
 re the Hash\nChips .. £1.30\nCheesy chips .. £1.60\nSausage and chips ..
  £3Pasties .. £1.80\nHam and cheese panini .. £2.50
CATEGORIES:Hash Trails
LOCATION:Cornwood Cricket Club Oak Park\, Hallamore Lane\, Cornwood\, Devon
 \, PL21 9RP
GEO:50.4192016;-3.974019999999996
X-APPLE-STRUCTURED-LOCATION;VALUE=URI;X-ADDRESS=Oak Park\, Hallamore Lane\,
  Cornwood\, Devon\, PL21 9RP\, United Kingdom;X-APPLE-RADIUS=100;X-TITLE=C
 ornwood Cricket Club:geo:50.4192016,-3.974019999999996
END:VEVENT
BEGIN:VTIMEZONE
TZID:Europe/London
X-LIC-LOCATION:Europe/London
BEGIN:DAYLIGHT
DTSTART:20160327T020000
TZOFFSETFROM:+0000
TZOFFSETTO:+0100
TZNAME:BST
END:DAYLIGHT
END:VTIMEZONE
END:VCALENDAR