BEGIN:VCALENDAR
VERSION:2.0
PRODID:-//wp-events-plugin.com//7.2.3.1//EN
TZID:Europe/London
X-WR-TIMEZONE:Europe/London
BEGIN:VEVENT
UID:55@sh4.org.uk
DTSTART;TZID=Europe/London:20160629T193000
DTEND;TZID=Europe/London:20160629T224500
DTSTAMP:20160525T214437Z
URL:https://www.sh4.org.uk/events/hash-1032/
SUMMARY:South Hams H4 Hash 1031 - Sun Bay Hotel
DESCRIPTION: - 
CATEGORIES:Hash Trails
LOCATION:Sun Bay Hotel Sun Bay Hotel\, Hope Cove\, Devon\, TQ7 3HH
GEO:50.243023;-3.8582569999999805
X-APPLE-STRUCTURED-LOCATION;VALUE=URI;X-ADDRESS=Sun Bay Hotel\, Hope Cove\,
  Devon\, TQ7 3HH\, United Kingdom;X-APPLE-RADIUS=100;X-TITLE=Sun Bay Hotel
 :geo:50.243023,-3.8582569999999805
END:VEVENT
BEGIN:VTIMEZONE
TZID:Europe/London
X-LIC-LOCATION:Europe/London
BEGIN:DAYLIGHT
DTSTART:20160327T020000
TZOFFSETFROM:+0000
TZOFFSETTO:+0100
TZNAME:BST
END:DAYLIGHT
END:VTIMEZONE
END:VCALENDAR