BEGIN:VCALENDAR
VERSION:2.0
PRODID:-//wp-events-plugin.com//7.2.3.1//EN
TZID:Europe/London
X-WR-TIMEZONE:Europe/London
BEGIN:VEVENT
UID:63@sh4.org.uk
DTSTART;TZID=Europe/London:20160810T000000
DTEND;TZID=Europe/London:20160810T230000
DTSTAMP:20160726T065443Z
URL:https://www.sh4.org.uk/events/hash-1037/
SUMMARY:South Hams H4 Hash 1037 - Church House Inn (Rattery)
DESCRIPTION: - 
CATEGORIES:Hash Trails
LOCATION:Church House Inn (Rattery) Church House Inn\, Rattery\, TQ10 9LD
GEO:50.4401899;-3.775626999999986
X-APPLE-STRUCTURED-LOCATION;VALUE=URI;X-ADDRESS=Church House Inn\, Rattery\
 , TQ10 9LD\, United Kingdom;X-APPLE-RADIUS=100;X-TITLE=Church House Inn (R
 attery):geo:50.4401899,-3.775626999999986
END:VEVENT
BEGIN:VTIMEZONE
TZID:Europe/London
X-LIC-LOCATION:Europe/London
BEGIN:DAYLIGHT
DTSTART:20160327T020000
TZOFFSETFROM:+0000
TZOFFSETTO:+0100
TZNAME:BST
END:DAYLIGHT
END:VTIMEZONE
END:VCALENDAR