BEGIN:VCALENDAR
VERSION:2.0
PRODID:-//wp-events-plugin.com//7.2.3.1//EN
TZID:Europe/London
X-WR-TIMEZONE:Europe/London
BEGIN:VEVENT
UID:64@sh4.org.uk
DTSTART;TZID=Europe/London:20160817T000000
DTEND;TZID=Europe/London:20160817T230000
DTSTAMP:20160816T183757Z
URL:https://www.sh4.org.uk/events/hash-1038/
SUMMARY:South Hams H4 Hash 1038 - Loddiswell Playing Fields Pavillion
DESCRIPTION:\n 	A very child friendly hash.\n 	Pasties are provided free of
  charge!!! (courtesy of sh4)Mobile bar on site to purchase whatever you wi
 sh to wet your whistle!!\n 	Be there or be square!!\nOn On - Twerk\, Ivy F
  &amp\; Little Fracker\n - \n 	A very child friendly hash.\n 	Pasties are 
 provided free of charge!!! (courtesy of sh4)Mobile bar on site to purchase
  whatever you wish to wet your whistle!!\n 	Be there or be square!!\nOn On
  - Twerk\, Ivy F &amp\; Little Fracker\n
CATEGORIES:Hash Trails
LOCATION:Loddiswell Playing Fields Pavillion Loddiswell Playing Fields\, Lo
 ddiswell\, Devon\, TQ7 4QH
GEO:50.32566434523871;-3.800865635195919
X-APPLE-STRUCTURED-LOCATION;VALUE=URI;X-ADDRESS=Loddiswell Playing Fields\,
  Loddiswell\, Devon\, TQ7 4QH\, United Kingdom;X-APPLE-RADIUS=100;X-TITLE=
 Loddiswell Playing Fields Pavillion:geo:50.32566434523871,-3.8008656351959
 19
END:VEVENT
BEGIN:VTIMEZONE
TZID:Europe/London
X-LIC-LOCATION:Europe/London
BEGIN:DAYLIGHT
DTSTART:20160327T020000
TZOFFSETFROM:+0000
TZOFFSETTO:+0100
TZNAME:BST
END:DAYLIGHT
END:VTIMEZONE
END:VCALENDAR