BEGIN:VCALENDAR
VERSION:2.0
PRODID:-//wp-events-plugin.com//7.2.3.1//EN
TZID:Europe/London
X-WR-TIMEZONE:Europe/London
BEGIN:VEVENT
UID:69@sh4.org.uk
DTSTART;TZID=Europe/London:20160921T193000
DTEND;TZID=Europe/London:20160921T223000
DTSTAMP:20160819T163142Z
URL:https://www.sh4.org.uk/events/hash-1043/
SUMMARY:South Hams H4 Hash 1043 - Mussel Inn
DESCRIPTION: - 
CATEGORIES:Hash Trails
LOCATION:Mussel Inn Mussel Inn\, Down Thomas\, PL9 0AQ 
GEO:50.3308073;-4.102702399999998
X-APPLE-STRUCTURED-LOCATION;VALUE=URI;X-ADDRESS=Mussel Inn\, Down Thomas\, 
 PL9 0AQ \, United Kingdom;X-APPLE-RADIUS=100;X-TITLE=Mussel Inn:geo:50.330
 8073,-4.102702399999998
END:VEVENT
BEGIN:VTIMEZONE
TZID:Europe/London
X-LIC-LOCATION:Europe/London
BEGIN:DAYLIGHT
DTSTART:20160327T020000
TZOFFSETFROM:+0000
TZOFFSETTO:+0100
TZNAME:BST
END:DAYLIGHT
END:VTIMEZONE
END:VCALENDAR