BEGIN:VCALENDAR
VERSION:2.0
PRODID:-//wp-events-plugin.com//7.2.3.1//EN
TZID:Europe/London
X-WR-TIMEZONE:Europe/London
BEGIN:VEVENT
UID:75@sh4.org.uk
DTSTART;TZID=Europe/London:20161102T193000
DTEND;TZID=Europe/London:20161102T220000
DTSTAMP:20161103T140923Z
URL:https://www.sh4.org.uk/events/hash-1049/
SUMMARY:South Hams H4 Hash 1049 - *AGPU* - Cottage Hotel
DESCRIPTION:SH4's Annual General P*** Up!\n\nFree Curry for Members\, Weekl
 y payers £2. - SH4's Annual General P*** Up!\n\nFree Curry for Members\, 
 Weekly payers £2.
CATEGORIES:Hash Trails,Social Events
LOCATION:Cottage Hotel The Cottage Hotel\, Hope Cove\, Devon\, TQ7 3HJ
GEO:50.244584494448254;-3.858140765606663
X-APPLE-STRUCTURED-LOCATION;VALUE=URI;X-ADDRESS=The Cottage Hotel\, Hope Co
 ve\, Devon\, TQ7 3HJ\, United Kingdom;X-APPLE-RADIUS=100;X-TITLE=Cottage H
 otel:geo:50.244584494448254,-3.858140765606663
END:VEVENT
BEGIN:VTIMEZONE
TZID:Europe/London
X-LIC-LOCATION:Europe/London
BEGIN:STANDARD
DTSTART:20161030T010000
TZOFFSETFROM:+0100
TZOFFSETTO:+0000
TZNAME:GMT
END:STANDARD
END:VTIMEZONE
END:VCALENDAR