BEGIN:VCALENDAR
VERSION:2.0
PRODID:-//wp-events-plugin.com//7.2.3.1//EN
TZID:Europe/London
X-WR-TIMEZONE:Europe/London
BEGIN:VEVENT
UID:80@sh4.org.uk
DTSTART;TZID=Europe/London:20161203T120000
DTEND;TZID=Europe/London:20161203T150000
DTSTAMP:20161019T180403Z
URL:https://www.sh4.org.uk/events/hash-1054-pre-xmas-hash-weekend/
SUMMARY:South Hams H4 Hash 1054 *Pre-xmas hash weekend - Start Bay Centre
DESCRIPTION: - 
CATEGORIES:Hash Trails
LOCATION:Start Bay Centre The Old School\,  Slapton\, Devon\, TQ7 2RA
GEO:50.30047;-3.664284
X-APPLE-STRUCTURED-LOCATION;VALUE=URI;X-ADDRESS=The Old School\,  Slapton\,
  Devon\, TQ7 2RA\, United Kingdom;X-APPLE-RADIUS=100;X-TITLE=Start Bay Cen
 tre:geo:50.30047,-3.664284
END:VEVENT
BEGIN:VTIMEZONE
TZID:Europe/London
X-LIC-LOCATION:Europe/London
BEGIN:STANDARD
DTSTART:20161030T010000
TZOFFSETFROM:+0100
TZOFFSETTO:+0000
TZNAME:GMT
END:STANDARD
END:VTIMEZONE
END:VCALENDAR