BEGIN:VCALENDAR
VERSION:2.0
PRODID:-//wp-events-plugin.com//7.2.3.1//EN
TZID:Europe/London
X-WR-TIMEZONE:Europe/London
BEGIN:VEVENT
UID:86@sh4.org.uk
DTSTART;TZID=Europe/London:20161226T120000
DTEND;TZID=Europe/London:20161226T140000
DTSTAMP:20161128T084825Z
URL:https://www.sh4.org.uk/events/hash-1059-boxing-day-hare-dog-hash/
SUMMARY:South Hams H4 Hash 1059 *Boxing Day Hare of the Dog Hash - Challabo
 rough Bay
DESCRIPTION:Goolie's Xmas hangover hash\, usually starts from Challaborough
  or Bigbury\, usually around 11am or 12 noon\, usually involves a dip in t
 he sea and tot of rum\, always great fun :) - Goolie's Xmas hangover hash\
 , usually starts from Challaborough or Bigbury\, usually around 11am or 12
  noon\, usually involves a dip in the sea and tot of rum\, always great fu
 n :)
CATEGORIES:Hash Trails
LOCATION:Challaborough Bay Challaborough Bay\, Challaborough\, Devon\, TQ7 
 4HU
GEO:50.288896;-3.898575
X-APPLE-STRUCTURED-LOCATION;VALUE=URI;X-ADDRESS=Challaborough Bay\, Challab
 orough\, Devon\, TQ7 4HU\, United Kingdom;X-APPLE-RADIUS=100;X-TITLE=Chall
 aborough Bay:geo:50.288896,-3.898575
END:VEVENT
BEGIN:VTIMEZONE
TZID:Europe/London
X-LIC-LOCATION:Europe/London
BEGIN:STANDARD
DTSTART:20161030T010000
TZOFFSETFROM:+0100
TZOFFSETTO:+0000
TZNAME:GMT
END:STANDARD
END:VTIMEZONE
END:VCALENDAR