BEGIN:VCALENDAR
VERSION:2.0
PRODID:-//wp-events-plugin.com//7.2.3.1//EN
TZID:Europe/London
X-WR-TIMEZONE:Europe/London
BEGIN:VEVENT
UID:87@sh4.org.uk
DTSTART;TZID=Europe/London:20161228T193000
DTEND;TZID=Europe/London:20161228T223000
DTSTAMP:20161213T130908Z
URL:https://www.sh4.org.uk/events/hash-1060/
SUMMARY:South Hams H4 Hash 1060 - Duke Of Cornwall
DESCRIPTION: - 
CATEGORIES:Hash Trails
LOCATION:Duke Of Cornwall 3 Keaton Road\, Ivybridge\, Devon\, PL21 9DH
GEO:50.387620396994976;-3.9233921828033544
X-APPLE-STRUCTURED-LOCATION;VALUE=URI;X-ADDRESS=3 Keaton Road\, Ivybridge\,
  Devon\, PL21 9DH\, United Kingdom;X-APPLE-RADIUS=100;X-TITLE=Duke Of Corn
 wall:geo:50.387620396994976,-3.9233921828033544
END:VEVENT
BEGIN:VTIMEZONE
TZID:Europe/London
X-LIC-LOCATION:Europe/London
BEGIN:STANDARD
DTSTART:20161030T010000
TZOFFSETFROM:+0100
TZOFFSETTO:+0000
TZNAME:GMT
END:STANDARD
END:VTIMEZONE
END:VCALENDAR