BEGIN:VCALENDAR
VERSION:2.0
PRODID:-//wp-events-plugin.com//7.2.3.1//EN
TZID:Europe/London
X-WR-TIMEZONE:Europe/London
BEGIN:VEVENT
UID:88@sh4.org.uk
DTSTART;TZID=Europe/London:20170104T193000
DTEND;TZID=Europe/London:20170104T223000
DTSTAMP:20170105T093015Z
URL:https://www.sh4.org.uk/events/hash-1061/
SUMMARY:South Hams H4 Hash 1061 South Milton Village Hall - South Milton Vi
 llage Hall
DESCRIPTION: - 
CATEGORIES:Hash Trails
LOCATION:South Milton Village Hall Backshay Park\, South Milton\, DEvon\, T
 Q7 3LD
GEO:50.26939585306629;-3.8251989354431544
X-APPLE-STRUCTURED-LOCATION;VALUE=URI;X-ADDRESS=Backshay Park\, South Milto
 n\, DEvon\, TQ7 3LD\, United Kingdom;X-APPLE-RADIUS=100;X-TITLE=South Milt
 on Village Hall:geo:50.26939585306629,-3.8251989354431544
END:VEVENT
BEGIN:VTIMEZONE
TZID:Europe/London
X-LIC-LOCATION:Europe/London
BEGIN:STANDARD
DTSTART:20161030T010000
TZOFFSETFROM:+0100
TZOFFSETTO:+0000
TZNAME:GMT
END:STANDARD
END:VTIMEZONE
END:VCALENDAR