BEGIN:VCALENDAR
VERSION:2.0
PRODID:-//wp-events-plugin.com//7.2.3.1//EN
TZID:Europe/London
X-WR-TIMEZONE:Europe/London
BEGIN:VEVENT
UID:95@sh4.org.uk
DTSTART;TZID=Europe/London:20170205T100000
DTEND;TZID=Europe/London:20170205T110000
DTSTAMP:20170109T063047Z
URL:https://www.sh4.org.uk/events/hash-1067-china-fleet-hare-dog/
SUMMARY:South Hams H4 Hash 1067 *Post-Xmas Bash Hare-of-the-Dog Run - China
  Fleet Club
DESCRIPTION: - 
CATEGORIES:Away Events,Hash Trails,Social Events
LOCATION:China Fleet Club China Fleet Club\, Saltash\, Devon\, PL12 6LJ
GEO:50.4185993;-4.214717699999937
X-APPLE-STRUCTURED-LOCATION;VALUE=URI;X-ADDRESS=China Fleet Club\, Saltash\
 , Devon\, PL12 6LJ\, United Kingdom;X-APPLE-RADIUS=100;X-TITLE=China Fleet
  Club:geo:50.4185993,-4.214717699999937
END:VEVENT
BEGIN:VTIMEZONE
TZID:Europe/London
X-LIC-LOCATION:Europe/London
BEGIN:STANDARD
DTSTART:20161030T010000
TZOFFSETFROM:+0100
TZOFFSETTO:+0000
TZNAME:GMT
END:STANDARD
END:VTIMEZONE
END:VCALENDAR