BEGIN:VCALENDAR
VERSION:2.0
PRODID:-//wp-events-plugin.com//7.2.3.1//EN
TZID:Europe/London
X-WR-TIMEZONE:Europe/London
BEGIN:VEVENT
UID:97@sh4.org.uk
DTSTART;TZID=Europe/London:20170215T193000
DTEND;TZID=Europe/London:20170215T223000
DTSTAMP:20170213T113817Z
URL:https://www.sh4.org.uk/events/hash-1069/
SUMMARY:South Hams H4 Hash 1069 - The George
DESCRIPTION:Meet at Blackawton Village Car Park\, Vicarage Road\, TQ9 7AY -
  Meet at Blackawton Village Car Park\, Vicarage Road\, TQ9 7AY
CATEGORIES:Hash Trails
LOCATION:The George The George Inn\, Blackawton\, TQ9 7BG 
GEO:50.346316;-3.680313
X-APPLE-STRUCTURED-LOCATION;VALUE=URI;X-ADDRESS=The George Inn\, Blackawton
 \, TQ9 7BG \, United Kingdom;X-APPLE-RADIUS=100;X-TITLE=The George:geo:50.
 346316,-3.680313
END:VEVENT
BEGIN:VTIMEZONE
TZID:Europe/London
X-LIC-LOCATION:Europe/London
BEGIN:STANDARD
DTSTART:20161030T010000
TZOFFSETFROM:+0100
TZOFFSETTO:+0000
TZNAME:GMT
END:STANDARD
END:VTIMEZONE
END:VCALENDAR