BEGIN:VCALENDAR
VERSION:2.0
PRODID:-//wp-events-plugin.com//7.2.3.1//EN
TZID:Europe/London
X-WR-TIMEZONE:Europe/London
BEGIN:VEVENT
UID:102@sh4.org.uk
DTSTART;TZID=Europe/London:20170322T193000
DTEND;TZID=Europe/London:20170322T223000
DTSTAMP:20170206T213535Z
URL:https://www.sh4.org.uk/events/hash-1074/
SUMMARY:South Hams H4 Hash 1074 - Church House Inn (Stokenham)
DESCRIPTION: - 
CATEGORIES:Hash Trails
LOCATION:Church House Inn (Stokenham) Church House Inn\, Stokenham\, Devon\
 , TQ7 2SZ
GEO:50.274284;-3.674603
X-APPLE-STRUCTURED-LOCATION;VALUE=URI;X-ADDRESS=Church House Inn\, Stokenha
 m\, Devon\, TQ7 2SZ\, United Kingdom;X-APPLE-RADIUS=100;X-TITLE=Church Hou
 se Inn (Stokenham):geo:50.274284,-3.674603
END:VEVENT
BEGIN:VTIMEZONE
TZID:Europe/London
X-LIC-LOCATION:Europe/London
BEGIN:STANDARD
DTSTART:20161030T010000
TZOFFSETFROM:+0100
TZOFFSETTO:+0000
TZNAME:GMT
END:STANDARD
END:VTIMEZONE
END:VCALENDAR