BEGIN:VCALENDAR
VERSION:2.0
PRODID:-//wp-events-plugin.com//7.2.3.1//EN
TZID:Europe/London
X-WR-TIMEZONE:Europe/London
BEGIN:VEVENT
UID:104@sh4.org.uk
DTSTART;TZID=Europe/London:20170405T193000
DTEND;TZID=Europe/London:20170405T221500
DTSTAMP:20170324T180411Z
URL:https://www.sh4.org.uk/events/hash-1076/
SUMMARY:South Hams H4 Hash 1076 - Horse and Groom
DESCRIPTION: - 
CATEGORIES:Hash Trails
LOCATION:Horse and Groom B3213\, Bittaford\, Devon\, PL21 0El
GEO:50.397446;-3.877065
X-APPLE-STRUCTURED-LOCATION;VALUE=URI;X-ADDRESS=B3213\, Bittaford\, Devon\,
  PL21 0El\, United Kingdom;X-APPLE-RADIUS=100;X-TITLE=Horse and Groom:geo:
 50.397446,-3.877065
END:VEVENT
BEGIN:VTIMEZONE
TZID:Europe/London
X-LIC-LOCATION:Europe/London
BEGIN:DAYLIGHT
DTSTART:20170326T020000
TZOFFSETFROM:+0000
TZOFFSETTO:+0100
TZNAME:BST
END:DAYLIGHT
END:VTIMEZONE
END:VCALENDAR