BEGIN:VCALENDAR
VERSION:2.0
PRODID:-//wp-events-plugin.com//7.2.3.1//EN
TZID:Europe/London
X-WR-TIMEZONE:Europe/London
BEGIN:VEVENT
UID:105@sh4.org.uk
DTSTART;TZID=Europe/London:20170412T193000
DTEND;TZID=Europe/London:20170412T223000
DTSTAMP:20170324T180851Z
URL:https://www.sh4.org.uk/events/hash-1077/
SUMMARY:South Hams H4 Hash 1077 - Station House Hotel
DESCRIPTION: - 
CATEGORIES:Hash Trails
LOCATION:Station House Hotel Station House Hotel\, South Brent\, England\, 
 TQ10 9BE\, Devon
GEO:50.427097;-3.833953
X-APPLE-STRUCTURED-LOCATION;VALUE=URI;X-ADDRESS=Station House Hotel\, South
  Brent\, England\, TQ10 9BE\, Devon\, United Kingdom;X-APPLE-RADIUS=100;X-
 TITLE=Station House Hotel:geo:50.427097,-3.833953
END:VEVENT
BEGIN:VTIMEZONE
TZID:Europe/London
X-LIC-LOCATION:Europe/London
BEGIN:DAYLIGHT
DTSTART:20170326T020000
TZOFFSETFROM:+0000
TZOFFSETTO:+0100
TZNAME:BST
END:DAYLIGHT
END:VTIMEZONE
END:VCALENDAR