BEGIN:VCALENDAR
VERSION:2.0
PRODID:-//wp-events-plugin.com//7.2.3.1//EN
TZID:Europe/London
X-WR-TIMEZONE:Europe/London
BEGIN:VEVENT
UID:108@sh4.org.uk
DTSTART;TZID=Europe/London:20170426T193000
DTEND;TZID=Europe/London:20170426T223000
DTSTAMP:20170326T111333Z
URL:https://www.sh4.org.uk/events/hash-1079/
SUMMARY:South Hams H4 Hash 1079 - Fisherman's Rest
DESCRIPTION: - 
CATEGORIES:Hash Trails
LOCATION:Fisherman's Rest Fore Street\, Aveton Gifford\, Devon\, TQ7 4JL
GEO:50.311954;-3.836579
X-APPLE-STRUCTURED-LOCATION;VALUE=URI;X-ADDRESS=Fore Street\, Aveton Giffor
 d\, Devon\, TQ7 4JL\, United Kingdom;X-APPLE-RADIUS=100;X-TITLE=Fisherman'
 s Rest:geo:50.311954,-3.836579
END:VEVENT
BEGIN:VTIMEZONE
TZID:Europe/London
X-LIC-LOCATION:Europe/London
BEGIN:DAYLIGHT
DTSTART:20170326T020000
TZOFFSETFROM:+0000
TZOFFSETTO:+0100
TZNAME:BST
END:DAYLIGHT
END:VTIMEZONE
END:VCALENDAR