BEGIN:VCALENDAR
VERSION:2.0
PRODID:-//wp-events-plugin.com//7.2.3.1//EN
TZID:Europe/London
X-WR-TIMEZONE:Europe/London
BEGIN:VEVENT
UID:110@sh4.org.uk
DTSTART;TZID=Europe/London:20170510T193000
DTEND;TZID=Europe/London:20170510T223000
DTSTAMP:20170505T063115Z
URL:https://www.sh4.org.uk/events/hash-1081/
SUMMARY:South Hams H4 Hash 1081 - Live and Let Live
DESCRIPTION: - 
CATEGORIES:Hash Trails
LOCATION:Live and Let Live The Live and Let Live\, Landscove\, TQ13 7LZ
GEO:50.4813135;-3.72263989999999
X-APPLE-STRUCTURED-LOCATION;VALUE=URI;X-ADDRESS=The Live and Let Live\, Lan
 dscove\, TQ13 7LZ\, United Kingdom;X-APPLE-RADIUS=100;X-TITLE=Live and Let
  Live:geo:50.4813135,-3.72263989999999
END:VEVENT
BEGIN:VTIMEZONE
TZID:Europe/London
X-LIC-LOCATION:Europe/London
BEGIN:DAYLIGHT
DTSTART:20170326T020000
TZOFFSETFROM:+0000
TZOFFSETTO:+0100
TZNAME:BST
END:DAYLIGHT
END:VTIMEZONE
END:VCALENDAR