BEGIN:VCALENDAR
VERSION:2.0
PRODID:-//wp-events-plugin.com//7.2.3.1//EN
TZID:Europe/London
X-WR-TIMEZONE:Europe/London
BEGIN:VEVENT
UID:107@sh4.org.uk
DTSTART;TZID=Europe/London:20170524T193000
DTEND;TZID=Europe/London:20170524T230000
DTSTAMP:20170324T072233Z
URL:https://www.sh4.org.uk/events/hash-1083-hekkels-coming-age-finally-tal
 k-late-developer-birthday-bbq-hash/
SUMMARY:South Hams H4 Hash 1083 *Hekkel's Coming of Age (finally\; talk abo
 ut a late developer!) Birthday BBQ Hash* - Hare's House - Hekkle & Jyde
DESCRIPTION:Some are all grown up at 18\, others at 21. Some never manage i
 t and others stagger there just before shuffling off their mortal coil alt
 ogether. Hekkel has decided that she's cracked it at the tender age of 60 
 and wants to share the epic moment with those she regards now as more fami
 ly than family - only the family you'd choose if you had the choice...\n\n
 We'll supply heat\, salads and bread rolls\, you bring something to char t
 o within an inch of its life. There'll be a barrel of something but BYO an
 y other drinks of your choice and be prepared to sing your finest serenade
 ... :) - Some are all grown up at 18\, others at 21. Some never manage it 
 and others stagger there just before shuffling off their mortal coil altog
 ether. Hekkel has decided that she's cracked it at the tender age of 60 an
 d wants to share the epic moment with those she regards now as more family
  than family - only the family you'd choose if you had the choice...\n\nWe
 'll supply heat\, salads and bread rolls\, you bring something to char to 
 within an inch of its life. There'll be a barrel of something but BYO any 
 other drinks of your choice and be prepared to sing your finest serenade..
 . :)
CATEGORIES:Hash Trails
LOCATION:Hare's House - Hekkle & Jyde Barngates House\, Ermington\, PL21 9N
 E
GEO:50.362135;-3.918061
X-APPLE-STRUCTURED-LOCATION;VALUE=URI;X-ADDRESS=Barngates House\, Ermington
 \, PL21 9NE\, United Kingdom;X-APPLE-RADIUS=100;X-TITLE=Hare's House - Hek
 kle & Jyde:geo:50.362135,-3.918061
END:VEVENT
BEGIN:VTIMEZONE
TZID:Europe/London
X-LIC-LOCATION:Europe/London
BEGIN:DAYLIGHT
DTSTART:20170326T020000
TZOFFSETFROM:+0000
TZOFFSETTO:+0100
TZNAME:BST
END:DAYLIGHT
END:VTIMEZONE
END:VCALENDAR