BEGIN:VCALENDAR
VERSION:2.0
PRODID:-//wp-events-plugin.com//7.2.3.1//EN
TZID:Europe/London
X-WR-TIMEZONE:Europe/London
BEGIN:VEVENT
UID:121@sh4.org.uk
DTSTART;TZID=Europe/London:20170628T193000
DTEND;TZID=Europe/London:20170628T223000
DTSTAMP:20170612T153514Z
URL:https://www.sh4.org.uk/events/hash-1090/
SUMMARY:South Hams H4 Hash 1090 - Royal Oak
DESCRIPTION:Dress code: a patriotic red\, white and blue - don't ask me why
 ...\n - Dress code: a patriotic red\, white and blue - don't ask me why...
 \n
CATEGORIES:Hash Trails
LOCATION:Royal Oak The Royal Oak\, Malborough\, TQ7 3RL
GEO:50.244261;-3.812041
X-APPLE-STRUCTURED-LOCATION;VALUE=URI;X-ADDRESS=The Royal Oak\, Malborough\
 , TQ7 3RL\, United Kingdom;X-APPLE-RADIUS=100;X-TITLE=Royal Oak:geo:50.244
 261,-3.812041
END:VEVENT
BEGIN:VTIMEZONE
TZID:Europe/London
X-LIC-LOCATION:Europe/London
BEGIN:DAYLIGHT
DTSTART:20170326T020000
TZOFFSETFROM:+0000
TZOFFSETTO:+0100
TZNAME:BST
END:DAYLIGHT
END:VTIMEZONE
END:VCALENDAR