BEGIN:VCALENDAR
VERSION:2.0
PRODID:-//wp-events-plugin.com//7.2.3.1//EN
TZID:Europe/London
X-WR-TIMEZONE:Europe/London
BEGIN:VEVENT
UID:124@sh4.org.uk
DTSTART;TZID=Europe/London:20170719T190000
DTEND;TZID=Europe/London:20170719T230000
DTSTAMP:20170629T164207Z
URL:https://www.sh4.org.uk/events/hash-1093/
SUMMARY:South Hams H4 Hash 1093 - Scoops Barn
DESCRIPTION:Remember the almost none existent loos here! - Remember the alm
 ost none existent loos here!
CATEGORIES:Hash Trails
LOCATION:Scoops Barn Scoops Barn\, Denbury\, Devon\, TQ12 6EW
GEO:50.51506748062662;-3.6592301782959566
X-APPLE-STRUCTURED-LOCATION;VALUE=URI;X-ADDRESS=Scoops Barn\, Denbury\, Dev
 on\, TQ12 6EW\, United Kingdom;X-APPLE-RADIUS=100;X-TITLE=Scoops Barn:geo:
 50.51506748062662,-3.6592301782959566
END:VEVENT
BEGIN:VTIMEZONE
TZID:Europe/London
X-LIC-LOCATION:Europe/London
BEGIN:DAYLIGHT
DTSTART:20170326T020000
TZOFFSETFROM:+0000
TZOFFSETTO:+0100
TZNAME:BST
END:DAYLIGHT
END:VTIMEZONE
END:VCALENDAR