BEGIN:VCALENDAR
VERSION:2.0
PRODID:-//wp-events-plugin.com//7.2.3.1//EN
TZID:Europe/London
X-WR-TIMEZONE:Europe/London
BEGIN:VEVENT
UID:126@sh4.org.uk
DTSTART;TZID=Europe/London:20170802T193000
DTEND;TZID=Europe/London:20170802T230000
DTSTAMP:20170802T085815Z
URL:https://www.sh4.org.uk/events/hash-1095/
SUMMARY:South Hams H4 Hash 1095 - Ayrmer Cove NT Car Park
DESCRIPTION:Meet up at Arymer Cove Car Park then the On Downs are at Chez G
 ing Gang &amp\; Goolie's just down the road. Restricted parking at Hare's 
 House. Challabrough Car Park will be fully "Grockled Up" at this time of t
 he Year\, most people leave cars in Ayrmer Cove and Walk up and down. - Me
 et up at Arymer Cove Car Park then the On Downs are at Chez Ging Gang &amp
 \; Goolie's just down the road. Restricted parking at Hare's House. Challa
 brough Car Park will be fully "Grockled Up" at this time of the Year\, mos
 t people leave cars in Ayrmer Cove and Walk up and down.
CATEGORIES:Hash Trails
LOCATION:Ayrmer Cove NT Car Park National Trust Car Park\, Ringmore\, Devon
 \, TQ7 4HL
GEO:50.294889;-3.896778
X-APPLE-STRUCTURED-LOCATION;VALUE=URI;X-ADDRESS=National Trust Car Park\, R
 ingmore\, Devon\, TQ7 4HL\, United Kingdom;X-APPLE-RADIUS=100;X-TITLE=Ayrm
 er Cove NT Car Park:geo:50.294889,-3.896778
END:VEVENT
BEGIN:VTIMEZONE
TZID:Europe/London
X-LIC-LOCATION:Europe/London
BEGIN:DAYLIGHT
DTSTART:20170326T020000
TZOFFSETFROM:+0000
TZOFFSETTO:+0100
TZNAME:BST
END:DAYLIGHT
END:VTIMEZONE
END:VCALENDAR