BEGIN:VCALENDAR
VERSION:2.0
PRODID:-//wp-events-plugin.com//7.2.3.1//EN
TZID:Europe/London
X-WR-TIMEZONE:Europe/London
BEGIN:VEVENT
UID:113@sh4.org.uk
DTSTART;TZID=Europe/London:20170906T193000
DTEND;TZID=Europe/London:20170906T223000
DTSTAMP:20170903T165515Z
URL:https://www.sh4.org.uk/events/hash-1100-troughies-ang-hash/
SUMMARY:South Hams H4 Hash 1100 Troughie's 'Ang-on hash - Dolphin Inn - Dar
 tmouth
DESCRIPTION:SH4’s 1100th run will be also the tribute to our much loved a
 nd missed Troughie. Titled the ‘Ang-On hash\, it will take place in and 
 around Dartmouth\, Circle Up and OD at The Dolphin Inn. Elizabethan fancy 
 dress\; fundraising for Pancreatic Cancer Research. There will be 3 regrou
 ps with entertainment and refreshments. - SH4’s 1100th run will be also 
 the tribute to our much loved and missed Troughie. Titled the ‘Ang-On ha
 sh\, it will take place in and around Dartmouth\, Circle Up and OD at The 
 Dolphin Inn. Elizabethan fancy dress\; fundraising for Pancreatic Cancer R
 esearch. There will be 3 regroups with entertainment and refreshments.
CATEGORIES:Fundraising Event,Hash Trails,Social Events
LOCATION:Dolphin Inn - Dartmouth The Dolphin\, Dartmouth\, TQ6 9QE
GEO:50.35198519999999;-3.580005799999981
X-APPLE-STRUCTURED-LOCATION;VALUE=URI;X-ADDRESS=The Dolphin\, Dartmouth\, T
 Q6 9QE\, United Kingdom;X-APPLE-RADIUS=100;X-TITLE=Dolphin Inn - Dartmouth
 :geo:50.35198519999999,-3.580005799999981
END:VEVENT
BEGIN:VTIMEZONE
TZID:Europe/London
X-LIC-LOCATION:Europe/London
BEGIN:DAYLIGHT
DTSTART:20170326T020000
TZOFFSETFROM:+0000
TZOFFSETTO:+0100
TZNAME:BST
END:DAYLIGHT
END:VTIMEZONE
END:VCALENDAR