BEGIN:VCALENDAR
VERSION:2.0
PRODID:-//wp-events-plugin.com//7.2.3.1//EN
TZID:Europe/London
X-WR-TIMEZONE:Europe/London
BEGIN:VEVENT
UID:133@sh4.org.uk
DTSTART;TZID=Europe/London:20171004T193000
DTEND;TZID=Europe/London:20171004T230000
DTSTAMP:20170928T174707Z
URL:https://www.sh4.org.uk/events/hash-1104/
SUMMARY:South Hams H4 Hash 1104 - Bear & Blacksmith
DESCRIPTION: - 
CATEGORIES:Hash Trails
LOCATION:Bear & Blacksmith The Bear and Blacksmith\, Chillington\, TQ7 2LD
GEO:50.272835;-3.695758
X-APPLE-STRUCTURED-LOCATION;VALUE=URI;X-ADDRESS=The Bear and Blacksmith\, C
 hillington\, TQ7 2LD\, United Kingdom;X-APPLE-RADIUS=100;X-TITLE=Bear & Bl
 acksmith:geo:50.272835,-3.695758
END:VEVENT
BEGIN:VTIMEZONE
TZID:Europe/London
X-LIC-LOCATION:Europe/London
BEGIN:DAYLIGHT
DTSTART:20170326T020000
TZOFFSETFROM:+0000
TZOFFSETTO:+0100
TZNAME:BST
END:DAYLIGHT
END:VTIMEZONE
END:VCALENDAR