BEGIN:VCALENDAR
VERSION:2.0
PRODID:-//wp-events-plugin.com//7.2.3.1//EN
TZID:Europe/London
X-WR-TIMEZONE:Europe/London
BEGIN:VEVENT
UID:141@sh4.org.uk
DTSTART;TZID=Europe/London:20171115T193000
DTEND;TZID=Europe/London:20171115T230000
DTSTAMP:20180713T064509Z
URL:https://www.sh4.org.uk/events/hash-1110/
SUMMARY:South Hams H4 Hash 1110 - Wrangaton Golf Club
DESCRIPTION:\n\n\n\n\n\n\n\n\n\n\n\nThe Words Hash 1110 according to Balls 
 Deep\n\n\n\n\n\n\n\n\n\n\n\n\n\n\n\n\n\n\n\nOvershot missed out his usual 
 history of the area but gave us all a warning about the Wrangutang! \n\n
  \n\nThe hash had it's ups and downs(sorry! hill based humour)\n\n \n\nT
 he Hares collared anyone who strayed from the laid trail\, Dead man walkin
 g was getting a bit touchy feely.\n\n \n\nDimwit mentioned Just Horny lef
 t him for dust on the downhill from the tor.\n\n \n\nIt all ended with St
 icky Bush flashing Piddler in the car park and seems that Whisperer likes 
 nothing more than to relax in a pool with a beer after his hashing.\n\n \
 n\nDown downs went to Dead man walking for his hand holding\, Rent boy for
  his birthday\, the hares.\n\n \n\nI'm sure there are things I've missed 
 but on on to Salcombe. \n\n\n\n\n\n\n - \n\n\n\n\n\n\n\n\n\n\n\nThe Words
  Hash 1110 according to Balls Deep\n\n\n\n\n\n\n\n\n\n\n\n\n\n\n\n\n\n\n\n
 Overshot missed out his usual history of the area but gave us all a warnin
 g about the Wrangutang! \n\n \n\nThe hash had it's ups and downs(sorry! 
 hill based humour)\n\n \n\nThe Hares collared anyone who strayed from the
  laid trail\, Dead man walking was getting a bit touchy feely.\n\n \n\nDi
 mwit mentioned Just Horny left him for dust on the downhill from the tor.\
 n\n \n\nIt all ended with Sticky Bush flashing Piddler in the car park an
 d seems that Whisperer likes nothing more than to relax in a pool with a b
 eer after his hashing.\n\n \n\nDown downs went to Dead man walking for hi
 s hand holding\, Rent boy for his birthday\, the hares.\n\n \n\nI'm sure 
 there are things I've missed but on on to Salcombe. \n\n\n\n\n\n\n
CATEGORIES:Hash Trails
LOCATION:Wrangaton Golf Club Golf Links Road\, Wrangaton\, Devon\, TQ10 9HJ
  
GEO:50.407774;-3.864095
X-APPLE-STRUCTURED-LOCATION;VALUE=URI;X-ADDRESS=Golf Links Road\, Wrangaton
 \, Devon\, TQ10 9HJ \, United Kingdom;X-APPLE-RADIUS=100;X-TITLE=Wrangaton
  Golf Club:geo:50.407774,-3.864095
END:VEVENT
BEGIN:VTIMEZONE
TZID:Europe/London
X-LIC-LOCATION:Europe/London
BEGIN:STANDARD
DTSTART:20171029T010000
TZOFFSETFROM:+0100
TZOFFSETTO:+0000
TZNAME:GMT
END:STANDARD
END:VTIMEZONE
END:VCALENDAR