BEGIN:VCALENDAR
VERSION:2.0
PRODID:-//wp-events-plugin.com//7.2.3.1//EN
TZID:Europe/London
X-WR-TIMEZONE:Europe/London
BEGIN:VEVENT
UID:145@sh4.org.uk
DTSTART;TZID=Europe/London:20171220T193000
DTEND;TZID=Europe/London:20171220T230000
DTSTAMP:20171224T195305Z
URL:https://www.sh4.org.uk/events/hash-1117/
SUMMARY:South Hams H4 Hash 1117 - Oxen Cove Car Park
DESCRIPTION:Every who down in whoville liked Christmas a lot...\nBut the Gr
 inch who lived just North of Whoville\, did NOT!\nThe Grinch hated Christm
 as\, the whole Christmas season!\nNow\, please don't ask why. No one quite
  knows the reason.\nIt could be his head wasn't screwed on right.\nIt coul
 d be\, perhaps\, that his shoes were too tight.\nBit I think that the most
  likely reason of all.\nMay have been that his heart was two sizes too sma
 ll.\n\n\nA merry bunch of hash christmateers descended on Brixham harbour\
 , full glittery\, pointy hats\, elf suited and Santas by the dozen\, all w
 elcomed by Overshot. Two virgin visitors stood forward amongst the hobgobl
 in chat. The Grinch didn't reveal itself. Hares\, Glam Santa Fallen Woman 
 and cheeky Elf Rabid set the stage\, maybe on the left\, maybe on the righ
 t\, thats for the views and the flour. Oohs and ahs were muttered\, as a s
 top was expected for the mulled cider.\n\nThe crowd set off\, Rizzo was ne
 arly left "behind"\, Brixham was a twinling town\, the tide was in\, the f
 airy lights on\, the boats bobbed in the harbour. Up hill\, down hill\, th
 rough the secret stairways\, indeed a good grotto. It was an occasion for 
 Piddler to do a spot of window shopping\, some would say peeping\; Oh yes 
 he did\, oh no he didn't bayed the crowd. U-bend added to the sparkly ligh
 ts as his new flourescent trainers shone out...kept that quiet didn't he..
 .Jyde was also sparkling bright\, but is it really true that he wears his 
 lycra all night? Piltdown man was sent down reverse checks by those naught
 y elfin FRB's-no presents for them this year. The virgin visitors dressed 
 as people showed potential\, shortcutting to be at the front. The snow was
  fluttering down as we approached a welcome cider stop on the quayside\, t
 he bay views across to tinsel town Torquay.\n\nBack to the resplendent cha
 let perched on the hill\, views of the harbour\, christmas baubles and daz
 zling trees all round. Traditional seafaring supper has been ordered\, a c
 ouple of spuds and five fishes went a very long way\, and thirst quenched 
 with liquor for good cheer-a splendidly jolly occasion. RA Santa Goolie si
 lenced all his christmas helpers\, a rounding up of misdemeanour and a yar
 d of ale for down downs awarded to: Fallen Woman\, Jyde\, Rizzo nominated 
 Frenchie\, who nominated...Overshot\, U-bend\, Goolie\, virgin man\, Lo-ta
 rse\, \, Piltdown Man\, Piddler\, Big Bird\, Tim\, Boaty...the deck was aw
 ash.\n\nMerry Xmas and Big Family Love to friends absent and present from 
 all at Hash Whoville. THANK YOU to Fallen Woman and Broken Man for their g
 enerous hospitality.\n\n\nAnd the Grinch thought of something he hadn't be
 fore!\nMaybe Christmas\, he thought\, doesn't come from a store.\nMaybe Ch
 ristmas...perhaps means a little bit more!\n\nON ON DULUX - Every who down
  in whoville liked Christmas a lot...\nBut the Grinch who lived just North
  of Whoville\, did NOT!\nThe Grinch hated Christmas\, the whole Christmas 
 season!\nNow\, please don't ask why. No one quite knows the reason.\nIt co
 uld be his head wasn't screwed on right.\nIt could be\, perhaps\, that his
  shoes were too tight.\nBit I think that the most likely reason of all.\nM
 ay have been that his heart was two sizes too small.\n\n\nA merry bunch of
  hash christmateers descended on Brixham harbour\, full glittery\, pointy 
 hats\, elf suited and Santas by the dozen\, all welcomed by Overshot. Two 
 virgin visitors stood forward amongst the hobgoblin chat. The Grinch didn'
 t reveal itself. Hares\, Glam Santa Fallen Woman and cheeky Elf Rabid set 
 the stage\, maybe on the left\, maybe on the right\, thats for the views a
 nd the flour. Oohs and ahs were muttered\, as a stop was expected for the 
 mulled cider.\n\nThe crowd set off\, Rizzo was nearly left "behind"\, Brix
 ham was a twinling town\, the tide was in\, the fairy lights on\, the boat
 s bobbed in the harbour. Up hill\, down hill\, through the secret stairway
 s\, indeed a good grotto. It was an occasion for Piddler to do a spot of w
 indow shopping\, some would say peeping\; Oh yes he did\, oh no he didn't 
 bayed the crowd. U-bend added to the sparkly lights as his new flourescent
  trainers shone out...kept that quiet didn't he...Jyde was also sparkling 
 bright\, but is it really true that he wears his lycra all night? Piltdown
  man was sent down reverse checks by those naughty elfin FRB's-no presents
  for them this year. The virgin visitors dressed as people showed potentia
 l\, shortcutting to be at the front. The snow was fluttering down as we ap
 proached a welcome cider stop on the quayside\, the bay views across to ti
 nsel town Torquay.\n\nBack to the resplendent chalet perched on the hill\,
  views of the harbour\, christmas baubles and dazzling trees all round. Tr
 aditional seafaring supper has been ordered\, a couple of spuds and five f
 ishes went a very long way\, and thirst quenched with liquor for good chee
 r-a splendidly jolly occasion. RA Santa Goolie silenced all his christmas 
 helpers\, a rounding up of misdemeanour and a yard of ale for down downs a
 warded to: Fallen Woman\, Jyde\, Rizzo nominated Frenchie\, who nominated.
 ..Overshot\, U-bend\, Goolie\, virgin man\, Lo-tarse\, \, Piltdown Man\, P
 iddler\, Big Bird\, Tim\, Boaty...the deck was awash.\n\nMerry Xmas and Bi
 g Family Love to friends absent and present from all at Hash Whoville. THA
 NK YOU to Fallen Woman and Broken Man for their generous hospitality.\n\n\
 nAnd the Grinch thought of something he hadn't before!\nMaybe Christmas\, 
 he thought\, doesn't come from a store.\nMaybe Christmas...perhaps means a
  little bit more!\n\nON ON DULUX
CATEGORIES:Hash Trails
LOCATION:Oxen Cove Car Park Brixham\, Brixham\, Devon
GEO:50.400563;-3.516156
X-APPLE-STRUCTURED-LOCATION;VALUE=URI;X-ADDRESS=Brixham\, Brixham\, Devon\,
  United Kingdom;X-APPLE-RADIUS=100;X-TITLE=Oxen Cove Car Park:geo:50.40056
 3,-3.516156
END:VEVENT
BEGIN:VTIMEZONE
TZID:Europe/London
X-LIC-LOCATION:Europe/London
BEGIN:STANDARD
DTSTART:20171029T010000
TZOFFSETFROM:+0100
TZOFFSETTO:+0000
TZNAME:GMT
END:STANDARD
END:VTIMEZONE
END:VCALENDAR