BEGIN:VCALENDAR
VERSION:2.0
PRODID:-//wp-events-plugin.com//7.2.3.1//EN
TZID:Europe/London
X-WR-TIMEZONE:Europe/London
BEGIN:VEVENT
UID:112@sh4.org.uk
DTSTART;TZID=Europe/London;VALUE=DATE:20180210
DTEND;TZID=Europe/London;VALUE=DATE:20180211
DTSTAMP:20190508T162217Z
URL:https://www.sh4.org.uk/events/hash-1126-post-xmas-hash-bash-2018/
SUMMARY:South Hams H4 Hash 1126 - Post Xmas Hash Bash 2018 - Palace Hotel
DESCRIPTION:Friday 9th to Sunday 11th February at the Palace Hotel\, Paignt
 on\nFriday and Saturday Nights just £120 per person all in!\n(£140 non-m
 embers)\nStay Sunday night too add £27.50 to include dinner &amp\; breakf
 ast!\nPrices include:\n- Dinner\, bed and breakfast both nights\n- A Frida
 y night after dinner pub crawl\, Saturday’s Hash and Sunday’s Hare of 
 the Dog Hash\n- A formal 6 course dinner on Saturday night\, to include a 
 glass of sherry and canapés on arrival\, plus wine on the tables\, all fo
 llowed by a live band!\n- Double\, single or twin rooms available\n- Use o
 f the fully equipped contemporary gym\, heated swimming pool\, luxury spa 
 pool\, sauna\, steam room and relaxation area!\nTo secure your space a £4
 0 deposit per person is required\nLimited spaces and real names when booki
 ng\nFirst come first served!\n\n\nPost Xmas Hash Bash 2018 inc Hash 1126 (
 the long wet one) &amp\; Hash 1127 (the long short one)\n\nPalace Hotel
  on 09/02/18 - 12/02/18\n\n\nHere follows an account of the weekend's s
 henanigans!\n\nFriday Night Pub Crawl. \nThis almost was put in jeopardy 
 by the preceding five course meal in the hotel despite Goolie forcib
 ly sitting all Guests down at 6:30pm. The Crawl didn't start until gone 
 9pm and we visited the delights of Wetherspoons (£2:29 an Ale).\n\nThe
  Coachhouse didn't accept hat-wearing (and the service was slow) so hal
 f the crawl marched on to where the hats were acceptable in Peaky Blin
 ders. The surviving Pink ladiesand the Turks and Threesome combine
 d and renamed themselves the Perks and Slap-happily drank absinth in the
 ir own private booth until they were kicked out. Goolie got into Peakys 
 and bought a round only to find that his posse couldn't get in as they wer
 e too old\, so he had to drink all 5 pints of the Devon Dumpling himself
 .\n\nBoaty was persuaded by a local lady of the night that thenext pub
 \, The Top of the Town\, was closed so we went on to The Spinning Wh
 eel only to find again that Crawl was again split in half as the other h
 alf were in the 'open' Top of TheTown. Not much else happened that I ca
 n remember other than Boaty got very sweaty\, (Dancing I must add) and 
 Marty lost her Cardie.\n\nOn the way back Marty also lost her legs se
 veral times and had to be picked up outside the hotel and halfway up th
 estairs to her room!\n\nHash 1126 (the long wet one) Long 13 miles - Shor
 t 7.5 miles\nAt the circle up Overshot had everyone in stitches (!) wi
 th after his ‘a brief history lesson on how the Hotel came into existe
 nce thanks to Isaac Singer of the sewing machine fame’. Boaty McBoatf
 ace was surprisingly active and managed to get out and lay the trail. H
 owever\, on setting off we were soon to realise that maybe he wasn't all-f
 unctioning. He had discovered a unique style of putting down checks after
  the hash had gone through. This though did keep us all together and we 
 all made it to the first beer stop at Ubend's abode\, who had kindly ta
 ken up the carpets so that we didn't have to take off our shoes.\n\nBy 
 the time we had left the weather was on the turn and the6mm that Di
 mwit predicted was starting to sweep in. TheFRB group I was in arrived a
 t a beach and the Long Short split\, from the complete reverse directi
 on to the annoyance of Hare no.2 Re Entry who was waiting there. He th
 en went on to blame Hare No.3 Pinky for not laying the trail clearly w
 ith enough flour. We then decided to continue the wrong around just to c
 onfuse any of the chasing pack who had found theright way. Rabid was 
 also going against the tide and decided to start at the end in Brixham
  and run backwards to find theforward runners.\n\nThe long was Murder as
  it went all the way to Agatha Christies Greenway and back again to with
 in 1/4 of mile to where the split was. It was all too much for Whispere
 r and his Paddle clown shoes who decided to stop at the Manor Inn to re
 cover. Dead Man Walking got left behind and then got lost clocking up 15
  miles in total. Mr Olive who apparently wasn't a runner did remarkably 
 well and led the Longs on many an occasion\, only to go the wrong way/
 misdirected by the accompanying FRBs.\n\nThere was a booby prize for th
 e first Hasher and Harriet to get to Rubbery's 2nd beer stop. It wasn't 
 that booby as two bottles of Prosecco were duly awarded to Orable and D
 irty Dog\, who had tactically decided to do the short just to win.\n\nE
 veryone arrived in drips (quite literally) and drabs at the On Home of 
 Fallen Woman and Broken Man. There was a log fire burning but no one cou
 ld get near through the wall of Harriets!\n\nDue to the fact that most
  of the shorts had left to get back before the Longs had got there th
 e Down Downs were awarded later that night before the Awards Speech: se
 e below.\n\nRugby\nEngland Won! (Apparently Topshelf! it was also a knoc
 k on before the disallowed Wales try).\n\nDown Downs\nA slurring Goolie 
 awarded the following down downs\;\nBoaty McBoatFace\, Pinky and Re-E
 ntry for hares and Mr Olive.\n[Actually\, were any more awarded? I was t
 oo busy shaking in my shoes\, all nerve for my bit]\nA big thank you and c
 heer was given to the hosts on theHash.\n\nThe Awards\nAfter being cor
 rected by the room for my opening grammar I finally got started on the
  Awards speech and for the record\, and for any hasher who could not ma
 ke the night I have adapted my notes cards below.\n\nSpecial Thanks\nWe 
 had a couple members of Committee standing down. To Thank them a memento a
 nd &amp\; our first T-Shirt was awarded to show our appreciation for their
  fine contribution to thehash.\n\nThe first\, Barbie. For our Words 
 Editor who really didn't grips with 21st Century Computer Technology [he w
 as awarded theLadybird book on the Computer and how it works].\n\nThe 
 2nd\, Damp Patch for a Harriet who has helped out Goolie with the soci
 al side of the hash and is a big part of thehash\, for as far as I can 
 remember\, and has gone un-thanked until now\n[Awarded a T shirt as our Ho
 -Down Hero].\n\nMore Thanks\nA huge thanks was given to Goolie for makin
 g this all this happen and gifted a bottle of doom bar and also something 
 a little more stronger. And not to miss out his able assistants Marty an
 d Rizzo were thanked with a bottle of fizz for among other things naggin
 g us to cough up &amp\; place orders\n\nBefore More Awards \nThe mismana
 gement committee were thanked for all their hard work behind the scenes.
  Unlike last year\, in order to avoid any accusations of being biased and 
 unfair and infighting it has been decided that no committee member can win
  an award this year.\n\nTherefore\, the following categories will not be
  awarded this year:\n\n- Best Hash of the Year\n- Best Scribe of the Y
 ear\n- Best looking Hasher\n- Worst looking hasher\n- Worst Ski-ing accide
 nt by a hasher\n\nSpoon of the Year would have been awarded\, been decid
 ed that this will be a lifetime achievement award so can retained indefini
 tely on Wetspot's mantelpiece.\n\nSome Highlights/Reflections (in no part
 icular order)\n\n- The great Xmas Slapton weekend. Great hash and I didn
 't pass out this year.... unlike some-\n\n- The 'Ang On' 1100th Skit has
 h in Dartmouth! Thank you to everyone involved\, great acting and drinking
  which made a fitting night for Troughie\n\n- The formidable foreshore 
 run down Bow Creek by Boatyand Arso\n\n- Fallen Woman and Broken Man'
 s fab Fish n chip Xmas night\n\n- Hekkel for getting so drunk before he
 r birthday hash! didn't quite lay it right resulting in hashers running it
  both ways round\n\n- The infamous Chip gate at the Pig's nose. (one o
 f you out there still owes £3)\n\n- The great mid-summer weekend at Mak
 er Heights organized but Nutcracker and Knownuts\n\n-Running Late's ga
 mble with the tide at Wonwell and getting it right\n\n- And the very w
 et outings of IVF &amp\; Pugsley's Salcombe\, Mr Softy's Stokenham and
  Jerks\, DMW and Jelly Baby'sAveton Gifford hashes\n\n- Hot Totty for
  ringing the bell at the end of the night at thePickwick Inn and t
 he whole chain reaction that was set in motion\n\nNow there has been some
  notable exclusions to the highlights which are deserving of extra speci
 al recognition. So without further 'a do' the following  awards were ma
 de\;\n\n1. Most Confusing hash of the Year\nCast your mind's back to las
 t January\, the hares had us running circles in the woods every which 
 way but On On\, some got back early! Some did it the wrong way around\, 
 it was pretty Long too and then throw in some weird druid/chanting process
 ion!\n\nIt's Stumped in the Woods\, Most Confusing hash of theYear wa
 s awarded to\;\nLazy Git and Biggus Dickus   HASH 1065 SEA TROUT\, ST
 AVERTON\n\n2. Hare-today-  Hare-tomorrow award \nGoing through my notes\
 , 2 hashers kept coming to the fore. Always willing to step in when\, ha
 sh needed them the most:\n\nHare 1. He came to rescue at Landscove\, whe
 n original Hare went AWOL\n\nHare 2- Really put herself out there and laid
  so many hashes that her husband was beginning to get suspicious.\n\nThe 
 award for Most Laid Harriette given to Nutcracker. (7) claims 10.\n1069
 \, 1073\, 1085\, 1087\, 1088\, 1090\, 1103\n\nand Super Sub to Pugsley
  (5) who for once wasn't here but on the way to South Africa!\n1074\, 1
 081\, 1100\, 1106\, 1111\n\n3.Most Hazardous Hash of the Year.\nThis cou
 ld have won the wettest hash\, longest hash and most alcoholic hash of 
 the year. 3 beer stops! But it is the sheer danger of it which has give
 n this award it's name!!!!\,\nThe hares didn't check the tides- what-ev
 er!!! If you did thelong you had to swim across a creek getting direction
 s from a homeowner on where to get out. If you did the shorts you would 
 have been run over by a shotgun bearing angry farmer.... whatever\n\nThe 
 award went to the Perilous Pinks Marty\, Rizzo and Frenchy for the
  Most Hazardous Hash of the Year\, HASH 1102 MILLBROOK INN- SOUTH POOL.
 \n\n4. Best Hash newcomer of the Year \nFor a hasher who fully embraced
  the hash culture\,and become a great addition to the club last year.\
 nNow this Harriet after her 2nd or 3rd hash loved it so much that she came
  away for a whole weekend with us at Maker and bought the whole family! 
 Very brave!\nAt the Slapton Weekend she gave Whisperer a run for his mon
 ey on who could pass out the first.\nThink it was a photo finish... don'
 t worry we have thephotos!! And even more commendably she came back to t
 hehash after that weekend. I thought we would never see her again!!\n\nThe
  Rising Recruit. Best Hash newcomer of the Year was given to Rusty B
 ottom\n\n5. The Snazzy Trainer Award \nThere is one person I have faile
 d to mention for his memorable and unforgettable contributions to the ha
 sh over the last year..........\nLet me remind you of some his highlight
 s if you already haven't guessed.\n\n1. He strived to make the hash visi
 t all the Parishes in theSouth Hams which he finally achieved at Hash 1
 091-Dean Court Farm Shop.\n2.  The same hash- excellent start to his ha
 sh running down motorway culverts and rivers\, then ruined it by one long 
 hill all on the road and missed getting to his own beer stop.\n3. The 
 Date 11/01/2017 In his RA-ing duties he finally told a great joke at Hash-
 1062 The Pack Horse South Brent with Punch line- Liqueur in the front 
 and Poker at the rear.\n4.  Hash 1097 Totnes Rugby Club 16.08.2017\n- F
 irst ever disabled friendly hash- Thankfully there were no takers given wh
 at was to happen.\n- No dots at start (though apparently not his fault- Co
 -hare)\n- Awful weather\n- Long 14 miles- Short 9 miles- no headtorches\n-
  Car Shuttles by the Hare &amp\; Rubbery got us all back (I think)\nHe h
 asn't laid a hash since\, but I know he is biding his time!\n\nThis deserv
 ed more than just a T-Shirt award. This deserved The Snazzy Trainer Awar
 d and it was awarded to Squashed Balls.\n\nEND OF AWARDS- Please see Rubb
 ery's photos for aftermath!!!\n\nHash 1127 Hair of the Dog\nWe all gathe
 red at 10:30am all seemingly un-hungover. There were not many takers for 
 Rubbery's after party party apparently! Most spritely was probably the H
 are\, Going Down who had proceeded to lay a 5.5 mile one and on hash ove
 r beach and through woods and the street's of Paignton. Piddler was he
 ard to exclaim ‘What is she on' at the end of the hash.\nThere was S
 now and Sun to add to the fun too!\n\nThanks again to everyone who made 
 it such a memorable weekend and On On to another what is she on? hash at 
 theChurch House Inn in Harberton. [no dogs- pre order food- park in Villag
 e hall]\nOn On Over........shot - Friday 9th to Sunday 11th February at t
 he Palace Hotel\, Paignton\nFriday and Saturday Nights just £120 per pers
 on all in!\n(£140 non-members)\nStay Sunday night too add £27.50 to incl
 ude dinner &amp\; breakfast!\nPrices include:\n- Dinner\, bed and breakfas
 t both nights\n- A Friday night after dinner pub crawl\, Saturday’s Hash
  and Sunday’s Hare of the Dog Hash\n- A formal 6 course dinner on Saturd
 ay night\, to include a glass of sherry and canapés on arrival\, plus win
 e on the tables\, all followed by a live band!\n- Double\, single or twin 
 rooms available\n- Use of the fully equipped contemporary gym\, heated swi
 mming pool\, luxury spa pool\, sauna\, steam room and relaxation area!\nTo
  secure your space a £40 deposit per person is required\nLimited spaces a
 nd real names when booking\nFirst come first served!\n\n\nPost Xmas Hash B
 ash 2018 inc Hash 1126 (the long wet one) &amp\; Hash 1127 (the long sho
 rt one)\n\nPalace Hotel on 09/02/18 - 12/02/18\n\n\nHere follows an accou
 nt of the weekend's shenanigans!\n\nFriday Night Pub Crawl. \nThis almo
 st was put in jeopardy by the preceding five course meal in the hotel 
 despite Goolie forcibly sitting all Guests down at 6:30pm. The Crawl d
 idn't start until gone 9pm and we visited the delights of Wetherspoons (
 £2:29 an Ale).\n\nThe Coachhouse didn't accept hat-wearing (and the se
 rvice was slow) so half the crawl marched on to where the hats were ac
 ceptable in Peaky Blinders. The surviving Pink ladiesand the Turks a
 nd Threesome combined and renamed themselves the Perks and Slap-happil
 y drank absinth in their own private booth until they were kicked out. Go
 olie got into Peakys and bought a round only to find that his posse could
 n't get in as they were too old\, so he had to drink all 5 pints of the 
 Devon Dumpling himself.\n\nBoaty was persuaded by a local lady of the n
 ight that thenext pub\, The Top of the Town\, was closed so we went o
 n to The Spinning Wheel only to find again that Crawl was again split in
  half as the other half were in the 'open' Top of TheTown. Not much e
 lse happened that I can remember other than Boaty got very sweaty\, (Dan
 cing I must add) and Marty lost her Cardie.\n\nOn the way back Marty
  also lost her legs several times and had to be picked up outside the h
 otel and halfway up thestairs to her room!\n\nHash 1126 (the long wet on
 e) Long 13 miles - Short 7.5 miles\nAt the circle up Overshot had ever
 yone in stitches (!) with after his ‘a brief history lesson on how the
  Hotel came into existence thanks to Isaac Singer of the sewing machine
  fame’. Boaty McBoatface was surprisingly active and managed to get ou
 t and lay the trail. However\, on setting off we were soon to realise th
 at maybe he wasn't all-functioning. He had discovered a unique style of pu
 tting down checks after the hash had gone through. This though did keep 
 us all together and we all made it to the first beer stop at Ubend's ab
 ode\, who had kindly taken up the carpets so that we didn't have to take
  off our shoes.\n\nBy the time we had left the weather was on the tu
 rn and the6mm that Dimwit predicted was starting to sweep in. TheFRB g
 roup I was in arrived at a beach and the Long Short split\, from the c
 omplete reverse direction to the annoyance of Hare no.2 Re Entry who w
 as waiting there. He then went on to blame Hare No.3 Pinky for not layin
 g the trail clearly with enough flour. We then decided to continue the
  wrong around just to confuse any of the chasing pack who had found th
 eright way. Rabid was also going against the tide and decided to start
  at the end in Brixham and run backwards to find theforward runners.\n\
 nThe long was Murder as it went all the way to Agatha Christies Greenwa
 y and back again to within 1/4 of mile to where the split was. It was al
 l too much for Whisperer and his Paddle clown shoes who decided to stop 
 at the Manor Inn to recover. Dead Man Walking got left behind and then
  got lost clocking up 15 miles in total. Mr Olive who apparently wasn't 
 a runner did remarkably well and led the Longs on many an occasion\, onl
 y to go the wrong way/misdirected by the accompanying FRBs.\n\nThere w
 as a booby prize for the first Hasher and Harriet to get to Rubbery's 2
 nd beer stop. It wasn't that booby as two bottles of Prosecco were duly aw
 arded to Orable and Dirty Dog\, who had tactically decided to do the
  short just to win.\n\nEveryone arrived in drips (quite literally) and dr
 abs at the On Home of Fallen Woman and Broken Man. There was a log fi
 re burning but no one could get near through the wall of Harriets!\n\nDu
 e to the fact that most of the shorts had left to get back before the
  Longs had got there the Down Downs were awarded later that night befor
 e the Awards Speech: see below.\n\nRugby\nEngland Won! (Apparently Tops
 helf! it was also a knock on before the disallowed Wales try).\n\nDown 
 Downs\nA slurring Goolie awarded the following down downs\;\nBoaty McBoa
 tFace\, Pinky and Re-Entry for hares and Mr Olive.\n[Actually\, were 
 any more awarded? I was too busy shaking in my shoes\, all nerve for my bi
 t]\nA big thank you and cheer was given to the hosts on theHash.\n\nThe
  Awards\nAfter being corrected by the room for my opening grammar I fin
 ally got started on the Awards speech and for the record\, and for any
  hasher who could not make the night I have adapted my notes cards below
 .\n\nSpecial Thanks\nWe had a couple members of Committee standing down. T
 o Thank them a memento and &amp\; our first T-Shirt was awarded to show ou
 r appreciation for their fine contribution to thehash.\n\nThe first\, B
 arbie. For our Words Editor who really didn't grips with 21st Century C
 omputer Technology [he was awarded theLadybird book on the Computer and
  how it works].\n\nThe 2nd\, Damp Patch for a Harriet who has helped ou
 t Goolie with the social side of the hash and is a big part of thehas
 h\, for as far as I can remember\, and has gone un-thanked until now\n[Awa
 rded a T shirt as our Ho-Down Hero].\n\nMore Thanks\nA huge thanks was giv
 en to Goolie for making this all this happen and gifted a bottle of doom
  bar and also something a little more stronger. And not to miss out his ab
 le assistants Marty and Rizzo were thanked with a bottle of fizz for a
 mong other things nagging us to cough up &amp\; place orders\n\nBefore Mor
 e Awards \nThe mismanagement committee were thanked for all their hard w
 ork behind the scenes. Unlike last year\, in order to avoid any accusati
 ons of being biased and unfair and infighting it has been decided that no 
 committee member can win an award this year.\n\nTherefore\, the followin
 g categories will not be awarded this year:\n\n- Best Hash of the Year\n
 - Best Scribe of the Year\n- Best looking Hasher\n- Worst looking hasher
 \n- Worst Ski-ing accident by a hasher\n\nSpoon of the Year would have b
 een awarded\, been decided that this will be a lifetime achievement award 
 so can retained indefinitely on Wetspot's mantelpiece.\n\nSome Highlights
 /Reflections (in no particular order)\n\n- The great Xmas Slapton weeken
 d. Great hash and I didn't pass out this year.... unlike some-\n\n- The 
 'Ang On' 1100th Skit hash in Dartmouth! Thank you to everyone involved\, g
 reat acting and drinking which made a fitting night for Troughie\n\n- Th
 e formidable foreshore run down Bow Creek by Boatyand Arso\n\n- Fallen
  Woman and Broken Man's fab Fish n chip Xmas night\n\n- Hekkel for ge
 tting so drunk before her birthday hash! didn't quite lay it right resulti
 ng in hashers running it both ways round\n\n- The infamous Chip gate at
  the Pig's nose. (one of you out there still owes £3)\n\n- The great 
 mid-summer weekend at Maker Heights organized but Nutcracker and Knownu
 ts\n\n-Running Late's gamble with the tide at Wonwell and getting it ri
 ght\n\n- And the very wet outings of IVF &amp\; Pugsley's Salcombe\, 
 Mr Softy's Stokenham and Jerks\, DMW and Jelly Baby'sAveton Gifford ha
 shes\n\n- Hot Totty for ringing the bell at the end of the night a
 t thePickwick Inn and the whole chain reaction that was set in motion\n
 \nNow there has been some notable exclusions to the highlights which are
  deserving of extra special recognition. So without further 'a do' the f
 ollowing  awards were made\;\n\n1. Most Confusing hash of the Year\nCas
 t your mind's back to last January\, the hares had us running circles in
  the woods every which way but On On\, some got back early! Some did it
  the wrong way around\, it was pretty Long too and then throw in some we
 ird druid/chanting procession!\n\nIt's Stumped in the Woods\, Most Conf
 using hash of theYear was awarded to\;\nLazy Git and Biggus Dickus  
  HASH 1065 SEA TROUT\, STAVERTON\n\n2. Hare-today-  Hare-tomorrow award
  \nGoing through my notes\, 2 hashers kept coming to the fore. Always w
 illing to step in when\, hash needed them the most:\n\nHare 1. He came t
 o rescue at Landscove\, when original Hare went AWOL\n\nHare 2- Really put
  herself out there and laid so many hashes that her husband was beginning 
 to get suspicious.\n\nThe award for Most Laid Harriette given to Nutcr
 acker. (7) claims 10.\n1069\, 1073\, 1085\, 1087\, 1088\, 1090\, 1103\n\na
 nd Super Sub to Pugsley (5) who for once wasn't here but on the way 
 to South Africa!\n1074\, 1081\, 1100\, 1106\, 1111\n\n3.Most Hazardous Has
 h of the Year.\nThis could have won the wettest hash\, longest hash an
 d most alcoholic hash of the year. 3 beer stops! But it is the sheer d
 anger of it which has given this award it's name!!!!\,\nThe hares didn't 
 check the tides- what-ever!!! If you did thelong you had to swim across
  a creek getting directions from a homeowner on where to get out. If you d
 id the shorts you would have been run over by a shotgun bearing angry fa
 rmer.... whatever\n\nThe award went to the Perilous Pinks Marty\, Rizz
 o and Frenchy for the Most Hazardous Hash of the Year\, HASH 1102 M
 ILLBROOK INN- SOUTH POOL.\n\n4. Best Hash newcomer of the Year \nFor a 
 hasher who fully embraced the hash culture\,and become a great addition 
 to the club last year.\nNow this Harriet after her 2nd or 3rd hash loved
  it so much that she came away for a whole weekend with us at Maker and bo
 ught the whole family! Very brave!\nAt the Slapton Weekend she gave Wh
 isperer a run for his money on who could pass out the first.\nThink it w
 as a photo finish... don't worry we have thephotos!! And even more commen
 dably she came back to thehash after that weekend. I thought we would nev
 er see her again!!\n\nThe Rising Recruit. Best Hash newcomer of the Ye
 ar was given to Rusty Bottom\n\n5. The Snazzy Trainer Award \nThere i
 s one person I have failed to mention for his memorable and unforgettable 
 contributions to the hash over the last year..........\nLet me remind 
 you of some his highlights if you already haven't guessed.\n\n1. He strive
 d to make the hash visit all the Parishes in theSouth Hams which he f
 inally achieved at Hash 1091-Dean Court Farm Shop.\n2.  The same hash- 
 excellent start to his hash running down motorway culverts and rivers\, th
 en ruined it by one long hill all on the road and missed getting to his 
 own beer stop.\n3. The Date 11/01/2017 In his RA-ing duties he finally t
 old a great joke at Hash-1062 The Pack Horse South Brent with Punch line
 - Liqueur in the front and Poker at the rear.\n4.  Hash 1097 Totnes R
 ugby Club 16.08.2017\n- First ever disabled friendly hash- Thankfully ther
 e were no takers given what was to happen.\n- No dots at start (though app
 arently not his fault- Co-hare)\n- Awful weather\n- Long 14 miles- Short 9
  miles- no headtorches\n- Car Shuttles by the Hare &amp\; Rubbery got us
  all back (I think)\nHe hasn't laid a hash since\, but I know he is biding
  his time!\n\nThis deserved more than just a T-Shirt award. This deserved
  The Snazzy Trainer Award and it was awarded to Squashed Balls.\n\nEND 
 OF AWARDS- Please see Rubbery's photos for aftermath!!!\n\nHash 1127 Hair 
 of the Dog\nWe all gathered at 10:30am all seemingly un-hungover. There 
 were not many takers for Rubbery's after party party apparently! Most spr
 itely was probably the Hare\, Going Down who had proceeded to lay a 5.
 5 mile one and on hash over beach and through woods and the street's of 
 Paignton. Piddler was heard to exclaim ‘What is she on' at the end o
 f the hash.\nThere was Snow and Sun to add to the fun too!\n\nThanks a
 gain to everyone who made it such a memorable weekend and On On to another
  what is she on? hash at theChurch House Inn in Harberton. [no dogs- pre 
 order food- park in Village hall]\nOn On Over........shot
CATEGORIES:Away Events,Hash Trails,Social Events
LOCATION:Palace Hotel Esplanade Road\, Paignton\, Devon\, TQ4 6BJ
GEO:50.43834840127458;-3.5610215423279215
X-APPLE-STRUCTURED-LOCATION;VALUE=URI;X-ADDRESS=Esplanade Road\, Paignton\,
  Devon\, TQ4 6BJ\, United Kingdom;X-APPLE-RADIUS=100;X-TITLE=Palace Hotel:
 geo:50.43834840127458,-3.5610215423279215
END:VEVENT
BEGIN:VTIMEZONE
TZID:Europe/London
X-LIC-LOCATION:Europe/London
BEGIN:STANDARD
DTSTART:20171029T010000
TZOFFSETFROM:+0100
TZOFFSETTO:+0000
TZNAME:GMT
END:STANDARD
END:VTIMEZONE
END:VCALENDAR