BEGIN:VCALENDAR
VERSION:2.0
PRODID:-//wp-events-plugin.com//7.2.3.1//EN
TZID:Europe/London
X-WR-TIMEZONE:Europe/London
BEGIN:VEVENT
UID:155@sh4.org.uk
DTSTART;TZID=Europe/London:20180221T193000
DTEND;TZID=Europe/London:20180221T230000
DTSTAMP:20180622T121749Z
URL:https://www.sh4.org.uk/events/hash-1129/
SUMMARY:South Hams H4 Hash 1129 - Fortescue Arms
DESCRIPTION:Will this be a Virgin Lay by the Youngest Hasher in history? (E
 lders to confirm if Record will be broken)\n\nWhilst I was deciding what t
 o do with my final consult of the evening\, Voldermort the hamster\, I
  was also debating weather to go hashing. It was cold\, 7pm and I was in C
 ornwall.\n\nHowever\, I knew this was Live Wire's virgin lay and I had see
 n such evidence of commitment from Dimmers and Marty in their trail prepar
 ation that I pulled on my shorts and headed out. I also wanted a giant sau
 sage from the pub.\n\nBeing his hood I had hoped Overshot may of kept t
 he circle-up for 25 mins with local history but alas I was alone on my ar
 rival. I jogged off after the hash and eventually spotted the walkers\
 , who I escorted to the beer spot\, having failed to spot the long/sho
 rt split. Retreating to the correct course I spent the next few miles 
 living in fear as every pheasant that had survived last weekends shoot jum
 ped of the ground.\n\nI finally spotted two lamps making their way across
  a large field. The lamps were talking to each other and there were no ot
 her hasher’s to be seen so I figured this must be Barberella and Lowt'ar
 se. They were going the opposite way to the trail so I continued on st
 ill in search of the FRBs.\n\nThe next group I came across was Piddler a
 nd crew. We moved through the woodland getting progressively muddier. I 
 pushed on and avoided the commotion of Piddler's fall which resulted in 
 a laceration to his leg that Olive patched with his handkerchief. Everyone
  who had passed this point would now be sporting mud leg warmers. Good cov
 erage for the bramble scratches below. I do hope everyone’s tetanus sh
 ots are up to date.\n\nI never caught the FRBs. I believe it was my effo
 rt in the Park Olympics that let me down\, specifically the reverse Sk
 eleton on the slide.\n\nBack in the pub with my sausage and chips I lea
 rnt of the rest of the Hash happenings. This included the results of 
 a quiz set before the hash\, something about distance and maths. Well don
 e to Georgie Porgie and Pilt Down Man for their answers to this.\n\nThe D
 own Downs were awarded to the Hares\, Piddler for falling over and getti
 ng confused in the valley\, Boaty for being Boaty\, Clueless for being n
 amed Clueless and Low'tars for being 60.\n\np.s For those who are wonderin
 g about Voldermort....he is no longer with us. Though I am sure there are 
 many of his horcruxes out there. - Will this be a Virgin Lay by the Younge
 st Hasher in history? (Elders to confirm if Record will be broken)\n\nWhil
 st I was deciding what to do with my final consult of the evening\, Vold
 ermort the hamster\, I was also debating weather to go hashing. It was c
 old\, 7pm and I was in Cornwall.\n\nHowever\, I knew this was Live Wire's 
 virgin lay and I had seen such evidence of commitment from Dimmers and Mar
 ty in their trail preparation that I pulled on my shorts and headed out. I
  also wanted a giant sausage from the pub.\n\nBeing his hood I had hoped
  Overshot may of kept the circle-up for 25 mins with local history but a
 las I was alone on my arrival. I jogged off after the hash and eventuall
 y spotted the walkers\, who I escorted to the beer spot\, having faile
 d to spot the long/short split. Retreating to the correct course I spe
 nt the next few miles living in fear as every pheasant that had survived
  last weekends shoot jumped of the ground.\n\nI finally spotted two lamps
  making their way across a large field. The lamps were talking to each ot
 her and there were no other hasher’s to be seen so I figured this must b
 e Barberella and Lowt'arse. They were going the opposite way to the tr
 ail so I continued on still in search of the FRBs.\n\nThe next group I c
 ame across was Piddler and crew. We moved through the woodland getting p
 rogressively muddier. I pushed on and avoided the commotion of Piddler's
  fall which resulted in a laceration to his leg that Olive patched with hi
 s handkerchief. Everyone who had passed this point would now be sporting m
 ud leg warmers. Good coverage for the bramble scratches below. I do hope
  everyone’s tetanus shots are up to date.\n\nI never caught the FRBs. 
 I believe it was my effort in the Park Olympics that let me down\, speci
 fically the reverse Skeleton on the slide.\n\nBack in the pub with my
  sausage and chips I learnt of the rest of the Hash happenings. This in
 cluded the results of a quiz set before the hash\, something about dist
 ance and maths. Well done to Georgie Porgie and Pilt Down Man for their an
 swers to this.\n\nThe Down Downs were awarded to the Hares\, Piddler fo
 r falling over and getting confused in the valley\, Boaty for being Boat
 y\, Clueless for being named Clueless and Low'tars for being 60.\n\np.s Fo
 r those who are wondering about Voldermort....he is no longer with us. Tho
 ugh I am sure there are many of his horcruxes out there.
CATEGORIES:Hash Trails
LOCATION:Fortescue Arms Green Hill\, East Allington\, Devon\, TQ9 7RA\, Dev
 on
GEO:50.323264;-3.731448
X-APPLE-STRUCTURED-LOCATION;VALUE=URI;X-ADDRESS=Green Hill\, East Allington
 \, Devon\, TQ9 7RA\, Devon\, United Kingdom;X-APPLE-RADIUS=100;X-TITLE=For
 tescue Arms:geo:50.323264,-3.731448
END:VEVENT
BEGIN:VTIMEZONE
TZID:Europe/London
X-LIC-LOCATION:Europe/London
BEGIN:STANDARD
DTSTART:20171029T010000
TZOFFSETFROM:+0100
TZOFFSETTO:+0000
TZNAME:GMT
END:STANDARD
END:VTIMEZONE
END:VCALENDAR