BEGIN:VCALENDAR
VERSION:2.0
PRODID:-//wp-events-plugin.com//7.2.3.1//EN
TZID:Europe/London
X-WR-TIMEZONE:Europe/London
BEGIN:VEVENT
UID:157@sh4.org.uk
DTSTART;TZID=Europe/London:20180307T193000
DTEND;TZID=Europe/London:20180307T230000
DTSTAMP:20180713T063457Z
URL:https://www.sh4.org.uk/events/hash-1131/
SUMMARY:South Hams H4 Hash 1131 - The Avon Inn
DESCRIPTION:\n\n\n\n\n\n\n\n\n\n\n\nThe Words Hash 1131\n\n\n\n\n\n\n\n\n\n
 \n\n\n\n\n\n\n\n\n\nA fair few of us rounded up besides the Avon to hear l
 ittle history but much about the heroes who soldiered on through the snow 
 last Wednesday. Pugsley was wet right from the start after some carefully 
 aimed snow ended up down his shirt-can't remember who by but assume it was
  Wet Spot-it usually is.\n\nUphill we ran hoping the rain would hold off a
 nd we'd make it home dry-no chance\, although some got more wet than other
 s! We ran though mud and fields\, enjoying the chance to get down and dirt
 y again after being stir crazy last week. There were many adventures\, rec
 ounted by Goolie but not noted by the words who completely forgot to assig
 n a scribe\, and so it's a fact light super-sub version today.\n\nRear Ent
 ry and Just Horny ran a different route to allow for dinner in the nook b
 ack at the pub.\n\nTriple Top 'won the hash' but was nearly a non-finishe
 r after Flage tried to handicap him and force an early bath in a very mud
 dy puddle-up to his middle\, well his tackle at least.\n\nBack in the pub
  the usual tuneful rendition of happy birthday was sung to Dimwit who was 
 able to wear his new birthday coat\, but not his new birthday suit.\n\nBel
 l End\, who had been seen in his birthday suit\, was offered a free pint
  by bar staff\, strangely he didn't want to claim it?!?\n\nDown downs went
  to the hares\, the unfortunate Triple Top\, Flage for ducking him and the
  birthday boy\,\n\nApologies to any whose events proved less memorable\, n
 ormal service will be resumed next week-hopefully by Marty.\n\nIt's on on 
 to the Pickwick\n\n\n\n\n\n\n - \n\n\n\n\n\n\n\n\n\n\n\nThe Words Hash 113
 1\n\n\n\n\n\n\n\n\n\n\n\n\n\n\n\n\n\n\n\nA fair few of us rounded up besid
 es the Avon to hear little history but much about the heroes who soldiered
  on through the snow last Wednesday. Pugsley was wet right from the start 
 after some carefully aimed snow ended up down his shirt-can't remember who
  by but assume it was Wet Spot-it usually is.\n\nUphill we ran hoping the 
 rain would hold off and we'd make it home dry-no chance\, although some go
 t more wet than others! We ran though mud and fields\, enjoying the chance
  to get down and dirty again after being stir crazy last week. There were 
 many adventures\, recounted by Goolie but not noted by the words who compl
 etely forgot to assign a scribe\, and so it's a fact light super-sub versi
 on today.\n\nRear Entry and Just Horny ran a different route to allow for
  dinner in the nook back at the pub.\n\nTriple Top 'won the hash' but was 
 nearly a non-finisher after Flage tried to handicap him and force an ear
 ly bath in a very muddy puddle-up to his middle\, well his tackle at leas
 t.\n\nBack in the pub the usual tuneful rendition of happy birthday was su
 ng to Dimwit who was able to wear his new birthday coat\, but not his new 
 birthday suit.\n\nBell End\, who had been seen in his birthday suit\, was
  offered a free pint by bar staff\, strangely he didn't want to claim it?
 !?\n\nDown downs went to the hares\, the unfortunate Triple Top\, Flage fo
 r ducking him and the birthday boy\,\n\nApologies to any whose events prov
 ed less memorable\, normal service will be resumed next week-hopefully by 
 Marty.\n\nIt's on on to the Pickwick\n\n\n\n\n\n\n
CATEGORIES:Hash Trails
LOCATION:The Avon Inn Plymouth Road\, Avonwick\, TQ10 9NB
GEO:50.41048600728175;-3.8114724556030524
X-APPLE-STRUCTURED-LOCATION;VALUE=URI;X-ADDRESS=Plymouth Road\, Avonwick\, 
 TQ10 9NB\, United Kingdom;X-APPLE-RADIUS=100;X-TITLE=The Avon Inn:geo:50.4
 1048600728175,-3.8114724556030524
END:VEVENT
BEGIN:VTIMEZONE
TZID:Europe/London
X-LIC-LOCATION:Europe/London
BEGIN:STANDARD
DTSTART:20171029T010000
TZOFFSETFROM:+0100
TZOFFSETTO:+0000
TZNAME:GMT
END:STANDARD
END:VTIMEZONE
END:VCALENDAR