BEGIN:VCALENDAR
VERSION:2.0
PRODID:-//wp-events-plugin.com//7.2.3.1//EN
TZID:Europe/London
X-WR-TIMEZONE:Europe/London
BEGIN:VEVENT
UID:162@sh4.org.uk
DTSTART;TZID=Europe/London:20180404T193000
DTEND;TZID=Europe/London:20180404T230000
DTSTAMP:20180713T062810Z
URL:https://www.sh4.org.uk/events/hash-1135/
SUMMARY:South Hams H4 Hash 1135 - Packhorse Inn
DESCRIPTION:Circle up in Station Car Park\n\n\n\n\n\n\n\n\n\n\n\n\nThe Word
 s Hash 1135 The words according to No Thatch\n\n\n\n\n\n\n\n\n\n\n\n\n\n\n
 \n\n\n\n\n\nHASH 1135 – 4TH APRIL 2018\nPACKHORSE INN\, SOUTH BRENT\nWe 
 gathered in the station car park\, where Overshot gave us his usual chat. 
 There was one  virgin named Max\, who came along with Twisted Sister. Qui
 te a few of the Plympton Hash  were there and a few of the hashers childr
 en\, which is  always nice to see.\nIt was a good run on a scenic route a
 nd now the lighter evenings are here it’s so much more enjoyable.  This
  was my second come back run\, which I enjoyed a lot more than the first\,
  as I tripped over a log hidden in the snow and fell flat on my face.\nEVE
 NTS ON THE HASH\nThe run started with a lovely run along the river\, throu
 gh open fields and into the woods.  According to Squash Balls everyone sh
 ort cut through the woods except him\, so next time follow Squash Balls if
  you want to be on the right track or want to do an extra long hash.\nHue 
 and Cry was running along with a female hasher\, he asked her name and  t
 hought she said it was Gruesome only to find out later it was Threesome. H
 e was  also dobbed in it by Going Down\, she told Rabid  he had been run
 ning when he isn’t supposed to.\nRabid and Knockers were running along c
 hatting away as usual\, when they were overtaken by Overshot who informed 
 them that Dim Wit had just had a nasty fall.  He obviously hadn’t stopp
 ed to help him\,( he was too busy trying to keep up with the front runners
 )\, so poor Dim Wit had to soldier on alone with blood running down his le
 g.\nKnockers was waylaid by Barbie\, who jumped out from behind a tree to 
 say he had something to show her\, not sure what that was\, but she looked
  a bit surprised\nThanks to the R.A for waiting for the football to finish
  before he did the down downs\, also JP and his helper Barbarella for a go
 od hash.\nDOWN DOWNS\nJP             Hare\nBoaty McBoatface   
  100 t-shirt\nGoing Down        60th Birthday\nMarigold       
  Birthday\nGomez            65th Birthday\nDim Wit        F
 or being soooo brave\nOn On to Leonards Road Car Park\, Ivybridge\n\n\n\n\
 n\n\n\n - Circle up in Station Car Park\n\n\n\n\n\n\n\n\n\n\n\n\nThe Words
  Hash 1135 The words according to No Thatch\n\n\n\n\n\n\n\n\n\n\n\n\n\n\n\
 n\n\n\n\n\nHASH 1135 – 4TH APRIL 2018\nPACKHORSE INN\, SOUTH BRENT\nWe g
 athered in the station car park\, where Overshot gave us his usual chat. T
 here was one  virgin named Max\, who came along with Twisted Sister. Quit
 e a few of the Plympton Hash  were there and a few of the hashers childre
 n\, which is  always nice to see.\nIt was a good run on a scenic route an
 d now the lighter evenings are here it’s so much more enjoyable.  This 
 was my second come back run\, which I enjoyed a lot more than the first\, 
 as I tripped over a log hidden in the snow and fell flat on my face.\nEVEN
 TS ON THE HASH\nThe run started with a lovely run along the river\, throug
 h open fields and into the woods.  According to Squash Balls everyone sho
 rt cut through the woods except him\, so next time follow Squash Balls if 
 you want to be on the right track or want to do an extra long hash.\nHue a
 nd Cry was running along with a female hasher\, he asked her name and  th
 ought she said it was Gruesome only to find out later it was Threesome. He
  was  also dobbed in it by Going Down\, she told Rabid  he had been runn
 ing when he isn’t supposed to.\nRabid and Knockers were running along ch
 atting away as usual\, when they were overtaken by Overshot who informed t
 hem that Dim Wit had just had a nasty fall.  He obviously hadn’t stoppe
 d to help him\,( he was too busy trying to keep up with the front runners)
 \, so poor Dim Wit had to soldier on alone with blood running down his leg
 .\nKnockers was waylaid by Barbie\, who jumped out from behind a tree to s
 ay he had something to show her\, not sure what that was\, but she looked 
 a bit surprised\nThanks to the R.A for waiting for the football to finish 
 before he did the down downs\, also JP and his helper Barbarella for a goo
 d hash.\nDOWN DOWNS\nJP             Hare\nBoaty McBoatface    
 100 t-shirt\nGoing Down        60th Birthday\nMarigold        
 Birthday\nGomez            65th Birthday\nDim Wit        Fo
 r being soooo brave\nOn On to Leonards Road Car Park\, Ivybridge\n\n\n\n\n
 \n\n\n
CATEGORIES:Hash Trails
LOCATION:Packhorse Inn 1 Plymouth Road\, South Brent\, Devon\, TQ10 9BH
GEO:50.42272639999999;-3.8333138000000417
X-APPLE-STRUCTURED-LOCATION;VALUE=URI;X-ADDRESS=1 Plymouth Road\, South Bre
 nt\, Devon\, TQ10 9BH\, United Kingdom;X-APPLE-RADIUS=100;X-TITLE=Packhors
 e Inn:geo:50.42272639999999,-3.8333138000000417
END:VEVENT
BEGIN:VTIMEZONE
TZID:Europe/London
X-LIC-LOCATION:Europe/London
BEGIN:DAYLIGHT
DTSTART:20180325T020000
TZOFFSETFROM:+0000
TZOFFSETTO:+0100
TZNAME:BST
END:DAYLIGHT
END:VTIMEZONE
END:VCALENDAR