BEGIN:VCALENDAR
VERSION:2.0
PRODID:-//wp-events-plugin.com//7.2.3.1//EN
TZID:Europe/London
X-WR-TIMEZONE:Europe/London
BEGIN:VEVENT
UID:164@sh4.org.uk
DTSTART;TZID=Europe/London:20180418T193000
DTEND;TZID=Europe/London:20180418T230000
DTSTAMP:20180713T062609Z
URL:https://www.sh4.org.uk/events/hash-1137/
SUMMARY:South Hams H4 Hash 1137 - The Ship Inn
DESCRIPTION:Watch the tide in the car park!!\n\n\n\n\n\n\n\n\n\n\n\n\nThe W
 ords Hash 1137\, the words according to Nice Buns\n\n\n\n\n\n\n\n\n\n\n\n\
 n\n\n\n\n\n\n\nThe Words from ‘Noss Mayo’ – 18th April 2018\n\nIn N
 oss Mayo it started\, parking was a great deal of fun\,\nThe only differen
 ce from other weeks\, was that tonight we had sun.\n\nOvershot began to ta
 lk\, with one of his little lines\,\nNoss is slang ‘to act weird in publ
 ic’ and ‘mess with people’s minds!\n\nMayo means Matthew\, lord of t
 he Manor\, Noss also means nose\,\nOvershot was drawn towards a Plympton H
 asher\, or so the story goes.\n\nVic kept quiet when ‘Any virgins’ was
  called and she gave a little wink\,\nThis was to backfire later as Oversh
 ot made her drink!\n\nOn with the hash\, a beautiful night and up and up w
 e ran\,\nOut to the coast for a sunset moment – it was all in Whisperer
 ’s plan.\n\nOvershot shared it with Dim Wit and Kneetrembler with U-Bend
 \,\nThe moment was soon ruined by Jerk and his ‘Great Big Lens’\n\nNot
  a lot of flour was used – it was said ‘just one bag!’\nWhisperer co
 uldn’t carry anymore that would have made him flag.\n\nHe needed to carr
 y his stella to measure his ‘stellas per mile’\,\nThe long was 30\, th
 e short was 20 and it all made him smile.\n\nWhen asked on route by Rizzo\
 , ‘Which way we all should go?’\nHe replied ‘I’d go that way!’ .
 . ‘Or maybe I wouldn’t!’ … ‘I just don’t know!’\n\nBack at t
 he pub and to ‘A Bit of Rough’\,  we raised a good luck cheer\,\nFor 
 the London Marathon – a down\, down or not – would he drink the beer?\
 n\nAn apology was made to ‘Big Nose’ AKA ‘Gym Slip’\,\nBut Gaffa d
 id go flying\, his nose had made him trip!\n\nA tree with 60 pairs of shoe
 s hanging – cue a crafty pun\,\nA ‘pair tree’ JP suggested and a dow
 n\, down he had won.\n\nRusty Bottom kept it quiet as when she returned to
  the car\,\nHer bag had simply disappeared and she couldn’t find her bra
 !\n\nShe looked in the front and looked in the boot and realised she was a
  fool\,\nShe was at the wrong car so shut the door and tried to act very c
 ool.\n\nTonight’s winner was not Re-entry – apparently he couldn’t p
 ark\,\nHe eventually parked in Yealmpton\, to give us all a head start!\n\
 nDim Wit and Overshot had their usual competition and Dim Wit won the race
 \,\nBut he was disqualified for cutting a corner and so Overshot took 1st
  place.\n\nBarberella was on a losing streak – she lost Dulux\, her car
  and JP\,\nBut told us that it was the special birthday of her good friend
  ‘Bar –bie’.\n\nBell End and Rusty followed the hare and got a terri
 ble shock\,\nWhisperer had popped off of the trail for a wee behind a rock
 .\n\nDown\, downs went to Whisperer for being a super hare\,\nAnd to JP fo
 r his pun of a tree and all its pairs!\n\nBarbies 60th birthday got him a
  little drink\,\nThe virgin Vic – was given one too for her crafty littl
 e wink.\n\nGym Slip was a great sport and so too was given one\nAnd A Bit 
 of Rough – did step up for his 26 mile run.\n\nWe thanked the pub and sa
 id ‘on-on’ to Plymbridge for next week’s run\,\nGaffa is going to la
 y the trail and ‘show us how it’s done’.\n\nOn On\n\nNice Buns\n\n\n
 \n\n\n\n - Watch the tide in the car park!!\n\n\n\n\n\n\n\n\n\n\n\n\nThe W
 ords Hash 1137\, the words according to Nice Buns\n\n\n\n\n\n\n\n\n\n\n\n\
 n\n\n\n\n\n\n\nThe Words from ‘Noss Mayo’ – 18th April 2018\n\nIn N
 oss Mayo it started\, parking was a great deal of fun\,\nThe only differen
 ce from other weeks\, was that tonight we had sun.\n\nOvershot began to ta
 lk\, with one of his little lines\,\nNoss is slang ‘to act weird in publ
 ic’ and ‘mess with people’s minds!\n\nMayo means Matthew\, lord of t
 he Manor\, Noss also means nose\,\nOvershot was drawn towards a Plympton H
 asher\, or so the story goes.\n\nVic kept quiet when ‘Any virgins’ was
  called and she gave a little wink\,\nThis was to backfire later as Oversh
 ot made her drink!\n\nOn with the hash\, a beautiful night and up and up w
 e ran\,\nOut to the coast for a sunset moment – it was all in Whisperer
 ’s plan.\n\nOvershot shared it with Dim Wit and Kneetrembler with U-Bend
 \,\nThe moment was soon ruined by Jerk and his ‘Great Big Lens’\n\nNot
  a lot of flour was used – it was said ‘just one bag!’\nWhisperer co
 uldn’t carry anymore that would have made him flag.\n\nHe needed to carr
 y his stella to measure his ‘stellas per mile’\,\nThe long was 30\, th
 e short was 20 and it all made him smile.\n\nWhen asked on route by Rizzo\
 , ‘Which way we all should go?’\nHe replied ‘I’d go that way!’ .
 . ‘Or maybe I wouldn’t!’ … ‘I just don’t know!’\n\nBack at t
 he pub and to ‘A Bit of Rough’\,  we raised a good luck cheer\,\nFor 
 the London Marathon – a down\, down or not – would he drink the beer?\
 n\nAn apology was made to ‘Big Nose’ AKA ‘Gym Slip’\,\nBut Gaffa d
 id go flying\, his nose had made him trip!\n\nA tree with 60 pairs of shoe
 s hanging – cue a crafty pun\,\nA ‘pair tree’ JP suggested and a dow
 n\, down he had won.\n\nRusty Bottom kept it quiet as when she returned to
  the car\,\nHer bag had simply disappeared and she couldn’t find her bra
 !\n\nShe looked in the front and looked in the boot and realised she was a
  fool\,\nShe was at the wrong car so shut the door and tried to act very c
 ool.\n\nTonight’s winner was not Re-entry – apparently he couldn’t p
 ark\,\nHe eventually parked in Yealmpton\, to give us all a head start!\n\
 nDim Wit and Overshot had their usual competition and Dim Wit won the race
 \,\nBut he was disqualified for cutting a corner and so Overshot took 1st
  place.\n\nBarberella was on a losing streak – she lost Dulux\, her car
  and JP\,\nBut told us that it was the special birthday of her good friend
  ‘Bar –bie’.\n\nBell End and Rusty followed the hare and got a terri
 ble shock\,\nWhisperer had popped off of the trail for a wee behind a rock
 .\n\nDown\, downs went to Whisperer for being a super hare\,\nAnd to JP fo
 r his pun of a tree and all its pairs!\n\nBarbies 60th birthday got him a
  little drink\,\nThe virgin Vic – was given one too for her crafty littl
 e wink.\n\nGym Slip was a great sport and so too was given one\nAnd A Bit 
 of Rough – did step up for his 26 mile run.\n\nWe thanked the pub and sa
 id ‘on-on’ to Plymbridge for next week’s run\,\nGaffa is going to la
 y the trail and ‘show us how it’s done’.\n\nOn On\n\nNice Buns\n\n\n
 \n\n\n\n
CATEGORIES:Hash Trails
LOCATION:The Ship Inn Passage Road\, Noss Mayo\, PL8 1EW
GEO:50.31084606047345;-4.040863108428994
X-APPLE-STRUCTURED-LOCATION;VALUE=URI;X-ADDRESS=Passage Road\, Noss Mayo\, 
 PL8 1EW\, United Kingdom;X-APPLE-RADIUS=100;X-TITLE=The Ship Inn:geo:50.31
 084606047345,-4.040863108428994
END:VEVENT
BEGIN:VTIMEZONE
TZID:Europe/London
X-LIC-LOCATION:Europe/London
BEGIN:DAYLIGHT
DTSTART:20180325T020000
TZOFFSETFROM:+0000
TZOFFSETTO:+0100
TZNAME:BST
END:DAYLIGHT
END:VTIMEZONE
END:VCALENDAR