BEGIN:VCALENDAR
VERSION:2.0
PRODID:-//wp-events-plugin.com//7.2.3.1//EN
TZID:Europe/London
X-WR-TIMEZONE:Europe/London
BEGIN:VEVENT
UID:169@sh4.org.uk
DTSTART;TZID=Europe/London:20180530T193000
DTEND;TZID=Europe/London:20180530T230000
DTSTAMP:20180713T061957Z
URL:https://www.sh4.org.uk/events/hash-1143/
SUMMARY:South Hams H4 Hash 1143 - The Square
DESCRIPTION:BBQ at Barngates\, Chapel Street ( chez Hekkel and Jyde)\n\n\n\
 n\n\n\n\n\n\n\n\n\nThe Words Hash 1143\, the words according to Rabid\n\n\
 n\n\n\n\n\n\n\n\n\n\n\n\n\n\n\n\n\n\n\n\n\n\n\n\n - BBQ at Barngates\, Cha
 pel Street ( chez Hekkel and Jyde)\n\n\n\n\n\n\n\n\n\n\n\n\nThe Words Hash
  1143\, the words according to Rabid\n\n\n\n\n\n\n\n\n\n\n\n\n\n\n\n\n\n\n
 \n\n\n\n\n\n\n\n
CATEGORIES:Hash Trails
LOCATION:The Square The Square\, Ermington\, PL21 9LP
GEO:50.361639536135435;-3.917016771163958
X-APPLE-STRUCTURED-LOCATION;VALUE=URI;X-ADDRESS=The Square\, Ermington\, PL
 21 9LP\, United Kingdom;X-APPLE-RADIUS=100;X-TITLE=The Square:geo:50.36163
 9536135435,-3.917016771163958
END:VEVENT
BEGIN:VTIMEZONE
TZID:Europe/London
X-LIC-LOCATION:Europe/London
BEGIN:DAYLIGHT
DTSTART:20180325T020000
TZOFFSETFROM:+0000
TZOFFSETTO:+0100
TZNAME:BST
END:DAYLIGHT
END:VTIMEZONE
END:VCALENDAR