BEGIN:VCALENDAR
VERSION:2.0
PRODID:-//wp-events-plugin.com//7.2.3.1//EN
TZID:Europe/London
X-WR-TIMEZONE:Europe/London
BEGIN:VEVENT
UID:233@sh4.org.uk
DTSTART;TZID=Europe/London;VALUE=DATE:20180623
DTEND;TZID=Europe/London;VALUE=DATE:20180624
DTSTAMP:20190508T182802Z
URL:https://www.sh4.org.uk/events/hash-1147-maker-heights/
SUMMARY:South Hams H4 Hash 1147 - Maker Heights - Maker Heights Camping
DESCRIPTION:Please Contact NutCracker by Facebook for details\n\n\n\n\n\n\n
 \n\n\n\n\n\nThe Words Hash 1147\, The words according to Sushi\n\n\n\n\n\n
 \n\n\n\n\n\n\n\n\n\n\n\n\n\nSunday morning was a delight with a field of e
 mpty Stella bottles strewn around the Whispermobile.  Hair of the Dog saw
  A Bit of Rough running in flip-flops.  A lovely drop into Millbrook and 
 around the lake followed by an agonising "only one hill" climb back up to 
 Maker finished most of us off.\n\nMaker Canteen was a fitting place for ma
 ny of us to finish the weekend.  Many thanks to Know Nuts and Nutcracker\
 , Maker Camp\, the glorious weather and everyone who came for a fabulous w
 eekend.\n\n\n\n\n\n\n - Please Contact NutCracker by Facebook for details\
 n\n\n\n\n\n\n\n\n\n\n\n\nThe Words Hash 1147\, The words according to Sush
 i\n\n\n\n\n\n\n\n\n\n\n\n\n\n\n\n\n\n\n\nSunday morning was a delight with
  a field of empty Stella bottles strewn around the Whispermobile.  Hair o
 f the Dog saw A Bit of Rough running in flip-flops.  A lovely drop into M
 illbrook and around the lake followed by an agonising "only one hill" clim
 b back up to Maker finished most of us off.\n\nMaker Canteen was a fitting
  place for many of us to finish the weekend.  Many thanks to Know Nuts an
 d Nutcracker\, Maker Camp\, the glorious weather and everyone who came for
  a fabulous weekend.\n\n\n\n\n\n\n
CATEGORIES:Away Events,Hash Trails
LOCATION:Maker Heights Camping Maker Lane\, Millbrook\, Cornwall\, PL10 1LA
GEO:50.341403;-4.20033
X-APPLE-STRUCTURED-LOCATION;VALUE=URI;X-ADDRESS=Maker Lane\, Millbrook\, Co
 rnwall\, PL10 1LA\, United Kingdom;X-APPLE-RADIUS=100;X-TITLE=Maker Height
 s Camping:geo:50.341403,-4.20033
END:VEVENT
BEGIN:VTIMEZONE
TZID:Europe/London
X-LIC-LOCATION:Europe/London
BEGIN:DAYLIGHT
DTSTART:20180325T020000
TZOFFSETFROM:+0000
TZOFFSETTO:+0100
TZNAME:BST
END:DAYLIGHT
END:VTIMEZONE
END:VCALENDAR