BEGIN:VCALENDAR
VERSION:2.0
PRODID:-//wp-events-plugin.com//7.2.3.1//EN
TZID:Europe/London
X-WR-TIMEZONE:Europe/London
BEGIN:VEVENT
UID:179@sh4.org.uk
DTSTART;TZID=Europe/London:20180725T193000
DTEND;TZID=Europe/London:20180725T230000
DTSTAMP:20180730T120940Z
URL:https://www.sh4.org.uk/events/hash-1153/
SUMMARY:South Hams H4 Hash 1153 - Leonards Road Car Park
DESCRIPTION:On Down at The Sportsmans Inn (click on postcode below for map)
 \n\nExeter Road\nIvybridge\nDevon\nPL21 0BQ\n\nTel: 01752 892280\n\nSo eng
 rossed was I in Josh Howie’s Radio 4 comedy\, that I nearly forgot to se
 t off for the Hash\, so Filth was left waiting in the car park\, wondering
  whether I’d changed my mind\, or got lost between KB &amp\; AG .. then 
 I forgot it was my turn to\ndrive.\n\nNo panic\, we arrived in plenty of t
 ime .. Overshot gave a short history of how Ivybridge got its name\, then 
 introduced a visitor by the name of Henry\, from Ash Hash. Thanks were giv
 en to Rear Entry &amp\; Flage for amazing organisation of the Barn Dance a
 t the weekend. Then Sushi explained the various combinations of shorts and
  longs and then we were off!\n\nOooops .. forgot to mention the nippy red 
 sports car that Gaffer drove up in\, nudging The Jerk off the grid.\n\nI d
 idn’t see much action on the Hash\, as I was busy discussing holiday pla
 ns with Rabid. I hear that Squashed Balls had the audacity to short-cut th
 e Walkers route .. but then he did have a posh dinner to attend with Twin 
 Buffers. Apparently\nhe’s just achieved his 3000th squash “win” vers
 us 887 losses .. where did these stats come from?\n\nSushi kindly organise
 d two river crossings that were possible without ever getting wet feet (ya
 y!) .. apparently the longs went up onto the moor\, but the shorts stayed 
 down by the river\, where the tree roots and stones caused several\ninjuri
 es ... Windy Puff and Mike both ended up with sprained ankles\, and were s
 een bathing their injuries in the cool stream water. Traffic Jam .. yes\, 
 that’s me .. did an amazing horizontal dive\, having caught her toe on t
 he tiniest of rocks\,\nlanding on her belly and severely winding herself .
 . but barely a scratch! However\, Barbarella has taught us all a lesson ab
 out scratches and grazes!\n\nBack in the car park\, The Jerk was found to 
 be entertaining a bunch of ladies as he stripped down to his jockeys\, or 
 were they just impressed by his soft top?\n\nAt the Sportsman’s\, Oversh
 ot\, the RA\, gave Willy Waiver a mention for saving IVF from short cuttin
 g. There was a shocking revelation that\, although the Plympton visitors a
 re paying their subs every week\, are not being “ticked off” on the re
 gister\nby the On Secs!! .. maybe they’ll never get their red t-shirts!!
  A welcome was given to Ride-Along Rick after a long absence\, and to the 
 returning London Hasher\, Testicular.\n\nAnd so DownDowns were awarded to 
 ...\nSushi .. for Haring\nJack .. for being named Crackerjack\nMike .. for
  being named Bit Swollen (reference to his ankle!)\nGaffer .. must be the 
 sports car\nJP .. 200th blue t-shirt award .. well done!\nHenry .. the vis
 itor\, for coming to the pub without a wallet!\nand finally\, Overshot .. 
 for who knows what\n\nTraffic Jam - On Down at The Sportsmans Inn (click o
 n postcode below for map)\n\nExeter Road\nIvybridge\nDevon\nPL21 0BQ\n\nTe
 l: 01752 892280\n\nSo engrossed was I in Josh Howie’s Radio 4 comedy\, t
 hat I nearly forgot to set off for the Hash\, so Filth was left waiting in
  the car park\, wondering whether I’d changed my mind\, or got lost betw
 een KB &amp\; AG .. then I forgot it was my turn to\ndrive.\n\nNo panic\, 
 we arrived in plenty of time .. Overshot gave a short history of how Ivybr
 idge got its name\, then introduced a visitor by the name of Henry\, from 
 Ash Hash. Thanks were given to Rear Entry &amp\; Flage for amazing organis
 ation of the Barn Dance at the weekend. Then Sushi explained the various c
 ombinations of shorts and longs and then we were off!\n\nOooops .. forgot 
 to mention the nippy red sports car that Gaffer drove up in\, nudging The 
 Jerk off the grid.\n\nI didn’t see much action on the Hash\, as I was bu
 sy discussing holiday plans with Rabid. I hear that Squashed Balls had the
  audacity to short-cut the Walkers route .. but then he did have a posh di
 nner to attend with Twin Buffers. Apparently\nhe’s just achieved his 300
 0th squash “win” versus 887 losses .. where did these stats come from?
 \n\nSushi kindly organised two river crossings that were possible without 
 ever getting wet feet (yay!) .. apparently the longs went up onto the moor
 \, but the shorts stayed down by the river\, where the tree roots and ston
 es caused several\ninjuries ... Windy Puff and Mike both ended up with spr
 ained ankles\, and were seen bathing their injuries in the cool stream wat
 er. Traffic Jam .. yes\, that’s me .. did an amazing horizontal dive\, h
 aving caught her toe on the tiniest of rocks\,\nlanding on her belly and s
 everely winding herself .. but barely a scratch! However\, Barbarella has 
 taught us all a lesson about scratches and grazes!\n\nBack in the car park
 \, The Jerk was found to be entertaining a bunch of ladies as he stripped 
 down to his jockeys\, or were they just impressed by his soft top?\n\nAt t
 he Sportsman’s\, Overshot\, the RA\, gave Willy Waiver a mention for sav
 ing IVF from short cutting. There was a shocking revelation that\, althoug
 h the Plympton visitors are paying their subs every week\, are not being 
 “ticked off” on the register\nby the On Secs!! .. maybe they’ll neve
 r get their red t-shirts!! A welcome was given to Ride-Along Rick after a 
 long absence\, and to the returning London Hasher\, Testicular.\n\nAnd so 
 DownDowns were awarded to ...\nSushi .. for Haring\nJack .. for being name
 d Crackerjack\nMike .. for being named Bit Swollen (reference to his ankle
 !)\nGaffer .. must be the sports car\nJP .. 200th blue t-shirt award .. we
 ll done!\nHenry .. the visitor\, for coming to the pub without a wallet!\n
 and finally\, Overshot .. for who knows what\n\nTraffic Jam
CATEGORIES:Hash Trails
LOCATION:Leonards Road Car Park Leonards Road\, Ivybridge\, PL21 0SL
GEO:50.388566;-3.919294
X-APPLE-STRUCTURED-LOCATION;VALUE=URI;X-ADDRESS=Leonards Road\, Ivybridge\,
  PL21 0SL\, United Kingdom;X-APPLE-RADIUS=100;X-TITLE=Leonards Road Car Pa
 rk:geo:50.388566,-3.919294
END:VEVENT
BEGIN:VTIMEZONE
TZID:Europe/London
X-LIC-LOCATION:Europe/London
BEGIN:DAYLIGHT
DTSTART:20180325T020000
TZOFFSETFROM:+0000
TZOFFSETTO:+0100
TZNAME:BST
END:DAYLIGHT
END:VTIMEZONE
END:VCALENDAR