BEGIN:VCALENDAR
VERSION:2.0
PRODID:-//wp-events-plugin.com//7.2.3.1//EN
TZID:Europe/London
X-WR-TIMEZONE:Europe/London
BEGIN:VEVENT
UID:180@sh4.org.uk
DTSTART;TZID=Europe/London:20180801T193000
DTEND;TZID=Europe/London:20180801T230000
DTSTAMP:20180807T120320Z
URL:https://www.sh4.org.uk/events/hash-1154/
SUMMARY:South Hams H4 Hash 1154 - Bigbury On Sea Beach Car Park
DESCRIPTION:On Down at the Pilchard Inn on Burgh Island.\n\n[Look forward t
 o Goolie's bar man tales]\n\n\n\n\n\n\n\n\n\n\n\n\nThe Words Hash 1154\n\n
 \n\n\n\n\n\n\n\n\n\n\n\n\n\n\n\n\n\nIt was a beautiful evening when we all
  met at Bigbury on Sea\, a few hashers rushed to get there early and secur
 e one of the free spaces just down the road from the main car-park only to
  find it was free after 6 anyway. Twisted Sister was particularly annoyed\
 , not only had Lot-T-Arse made her walk further then she needed to but hav
 ing been there earlier laying the hash had no excuse not to check out the 
 parking situation.\n\nAt least we made it here\, having kindly offered an 
 unnamed hasher a lift\, Lazy Git then promptly forgot them\, leaving them 
 standing on the side of the road all dressed up but no-where to go (or no-
 one to take them).\n\nAt the circle up Goolie warned us to be back by 8.45
  by the latest be catch the much anticipated sea tractor to Burgh Island. 
 CrackerJack wasn’t worried about this time constraint as he announced th
 at he just got his 50m swimming badge so he’d be ok.\n\nPiddler set off 
 on the long but soon regretted his decision after seeing the hill he neede
 d to go up\, he turned tail and found the quickest route back to the car p
 ark – as a happy consequence he was first in line for the sea tractor (a
 nd the bar.)\n\nSquashed Balls and the Jerk spotted some young ladies in b
 ikinis on the beach\, while Squashed Ball happily enjoyed the sight\, The 
 Jerk was more gentlemanly (it was hard apparently!) It was at this point t
 hat the The Jerk expressed a keen interest in restraint of a different kin
 d.\n\nDimmers was minding his own business slowly running up one of the (m
 any) hills when he noticed a hasher approaching fast from behind\, was it 
 Re-entry or The Jerk or Whisperer? No! It was JP\, he’s clearly got his 
 hashing mojo back!\n\nAs we finished our tour of Goolie’s garden Twisted
  Sister got a shock as Lazy Git emerged from the bushes in front of her\, 
 apparently they looked dry so he had popped in there to water them. As we 
 all queued for the sea tractor it was clear there may be a small delay in 
 getting to the pub as the numbers were restricted to 30 each crossing\, Wi
 lly Waiver (Willy Wader?!?) was having none of this and inspired by Cracke
 rJack’s earlier suggestion made his own way across\, turns out a hasher 
 is roughly the same speed as the tractor\, a top tip for any hasher wishin
 g to save £2 on the next trip to Burgh Island.\n\nBack at the pub we cele
 brated two wedding anniversaries Barbarella has put up with Barbie for 38 
 years but was out done by Ging-Gang who has survived 48 years with Goolie 
 (as Fallen Women pointed out you get less for murder.) Goolie was also lam
 enting the fact it’s also 48 years since the navy stopped giving sailors
  their daily tots of rum.\n\nAlice\, a virgin Hasher was not impressed wit
 h our down downs\, ½’s she scoffed\, I drink pints! Rubbery was awarded
  his 200 t-shirt proving each hash you turn up to counts even if you drive
  it in a land rover. Unfortunately there was no-one to photograph this mom
 entous moment so our hash flash had to resort to a selfie.\n\nDown downs w
 ere awarded to: The Hares\, Goolie and Lot-T-Arse\, CrackerJack for his sw
 imming suggestion\, Willy Waiver for acting on that suggestion\, The Jerk 
 for great restraint\, Lazy Git for being a forgetful git and Rubbery for a
 ttending 200 hashes.\nOn On\, Twisted Sister\n\n\n\n\n\n\n - On Down at th
 e Pilchard Inn on Burgh Island.\n\n[Look forward to Goolie's bar man tales
 ]\n\n\n\n\n\n\n\n\n\n\n\n\nThe Words Hash 1154\n\n\n\n\n\n\n\n\n\n\n\n\n\n
 \n\n\n\n\n\nIt was a beautiful evening when we all met at Bigbury on Sea\,
  a few hashers rushed to get there early and secure one of the free spaces
  just down the road from the main car-park only to find it was free after 
 6 anyway. Twisted Sister was particularly annoyed\, not only had Lot-T-Ars
 e made her walk further then she needed to but having been there earlier l
 aying the hash had no excuse not to check out the parking situation.\n\nAt
  least we made it here\, having kindly offered an unnamed hasher a lift\, 
 Lazy Git then promptly forgot them\, leaving them standing on the side of 
 the road all dressed up but no-where to go (or no-one to take them).\n\nAt
  the circle up Goolie warned us to be back by 8.45 by the latest be catch 
 the much anticipated sea tractor to Burgh Island. CrackerJack wasn’t wor
 ried about this time constraint as he announced that he just got his 50m s
 wimming badge so he’d be ok.\n\nPiddler set off on the long but soon reg
 retted his decision after seeing the hill he needed to go up\, he turned t
 ail and found the quickest route back to the car park – as a happy conse
 quence he was first in line for the sea tractor (and the bar.)\n\nSquashed
  Balls and the Jerk spotted some young ladies in bikinis on the beach\, wh
 ile Squashed Ball happily enjoyed the sight\, The Jerk was more gentlemanl
 y (it was hard apparently!) It was at this point that the The Jerk express
 ed a keen interest in restraint of a different kind.\n\nDimmers was mindin
 g his own business slowly running up one of the (many) hills when he notic
 ed a hasher approaching fast from behind\, was it Re-entry or The Jerk or 
 Whisperer? No! It was JP\, he’s clearly got his hashing mojo back!\n\nAs
  we finished our tour of Goolie’s garden Twisted Sister got a shock as L
 azy Git emerged from the bushes in front of her\, apparently they looked d
 ry so he had popped in there to water them. As we all queued for the sea t
 ractor it was clear there may be a small delay in getting to the pub as th
 e numbers were restricted to 30 each crossing\, Willy Waiver (Willy Wader?
 !?) was having none of this and inspired by CrackerJack’s earlier sugges
 tion made his own way across\, turns out a hasher is roughly the same spee
 d as the tractor\, a top tip for any hasher wishing to save £2 on the nex
 t trip to Burgh Island.\n\nBack at the pub we celebrated two wedding anniv
 ersaries Barbarella has put up with Barbie for 38 years but was out done b
 y Ging-Gang who has survived 48 years with Goolie (as Fallen Women pointed
  out you get less for murder.) Goolie was also lamenting the fact it’s a
 lso 48 years since the navy stopped giving sailors their daily tots of rum
 .\n\nAlice\, a virgin Hasher was not impressed with our down downs\, ½’
 s she scoffed\, I drink pints! Rubbery was awarded his 200 t-shirt proving
  each hash you turn up to counts even if you drive it in a land rover. Unf
 ortunately there was no-one to photograph this momentous moment so our has
 h flash had to resort to a selfie.\n\nDown downs were awarded to: The Hare
 s\, Goolie and Lot-T-Arse\, CrackerJack for his swimming suggestion\, Will
 y Waiver for acting on that suggestion\, The Jerk for great restraint\, La
 zy Git for being a forgetful git and Rubbery for attending 200 hashes.\nOn
  On\, Twisted Sister\n\n\n\n\n\n\n
CATEGORIES:Hash Trails
LOCATION:Bigbury On Sea Beach Car Park Marine Drive\, Bigbury On Sea\, TQ7 
 4AZ
GEO:50.282482277284316;-3.8942631542145136
X-APPLE-STRUCTURED-LOCATION;VALUE=URI;X-ADDRESS=Marine Drive\, Bigbury On S
 ea\, TQ7 4AZ\, United Kingdom;X-APPLE-RADIUS=100;X-TITLE=Bigbury On Sea Be
 ach Car Park:geo:50.282482277284316,-3.8942631542145136
END:VEVENT
BEGIN:VTIMEZONE
TZID:Europe/London
X-LIC-LOCATION:Europe/London
BEGIN:DAYLIGHT
DTSTART:20180325T020000
TZOFFSETFROM:+0000
TZOFFSETTO:+0100
TZNAME:BST
END:DAYLIGHT
END:VTIMEZONE
END:VCALENDAR