BEGIN:VCALENDAR
VERSION:2.0
PRODID:-//wp-events-plugin.com//7.2.3.1//EN
TZID:Europe/London
X-WR-TIMEZONE:Europe/London
BEGIN:VEVENT
UID:181@sh4.org.uk
DTSTART;TZID=Europe/London:20180808T193000
DTEND;TZID=Europe/London:20180808T230000
DTSTAMP:20181113T195652Z
URL:https://www.sh4.org.uk/events/hash-1155/
SUMMARY:South Hams H4 Hash 1155 - Modbury Inn
DESCRIPTION:\n\n\n\n\n\n\n\n\n\n\n\nThe Words Hash 1155\n\n\n\n\n\n\n\n\n\n
 \n\n\n\n\n\n\n\n\n\nHASH No. 1155. The Words according to Top Shelf\n“We
  need someone to do the ‘Words’ tonight” said the ‘Words editor’
  Flage-no-lay.\n“What letter are we on?” asked Overshot. ‘T’ was t
 he reply.\n“The Jerk!” someone muttered\, but he declined!\n“Please 
 God\,” I thought. “Please let me be invisible! Please let everyone for
 get that my hash name starts with a T”\, but ever alert Marty looked me 
 straight in the eye and blasted “Top Shelf should do them!”\n(Oh dear 
 God\, You’ve let me down yet again!)\n\nBecause I walked the trail I saw
  very little and heard even less\, and because I was serving the food at t
 he pub I had no time to take notes or listen to any ‘dirt’! So I knew 
 I would have to rely on the R.A. Goolie’s notes\, or I should say ‘scr
 ibblings’!\n\nAnyway\, these Words are written in the form of a quiz\, b
 ecause that’s what I do for The Modbury Inn\; I write their weekly quiz 
 (Which is held every Sunday at 8:30 by the way!)- Oops\, am I breaching th
 e “No Business Advertising” rule???\n\nRound One : Pre-Hash\n1. Tiffan
 y and Whisperer arrived at the car-park so early that they had time for pr
 e-hash sustenance\, so off to the Exeter Inn they went\, but which one of 
 them had a pint of Stella?\n\n2. The three Mercedes Sports cars parked nex
 t to each other (belonging to The Jerk\, Tiffany\, and Whisperer) looked g
 reat\, all sparkly and shiny\, but whose car had this comment said about i
 t- “The inside of his car looks like a farmyard!”?\n\n3. When the hare
  Barbie told us that we would be running through the site of a 1643 Civil 
 War battle and we should look out for any old relics\, why did everyone lo
 ok at Bootsie?\n\n4. The long runners were told that their run would be 6 
 miles\, but it was actually 7.2 miles. Was the hare being deceitful? YES /
  NO\n\n5. How much did Miss Mouthful’s colourful tights cost\, and where
  were they bought? A) £3 from Lidl?\nB) £30 from EBay? C) £500 from Har
 rods?\n\n6. Put these four groups in order according to the number of each
  that attended the hash – South Hams hashers\, Plympton hashers\, childr
 en\, dogs!\n\n7. Now put them in order of their average IQ levels.\n\nRoun
 d Two : The Hash\n\n8. What did 50 odd hashers cause on reaching Modbury h
 igh road and running across the zebra crossing? A) A riot? B) An earthquak
 e? C) A traffic jam?\n\n9. Who hitched a lift on the back of a car on the 
 hill leading out of the village? A) The Jerk? B) Boaty McBoatface? C) Ging
 -Gang?\n\n10. What caused a ‘hasher-jam’ at the entrance to the first 
 field? A) A dead cow? B) An old relic? C) A stile?\n\n11. What was Little 
 Chef accused of doing in the cornfield? A) Skipping and dancing while sing
 ing “Oh\, what a beautiful day!”? B) Taking a quick No.1? C) Stealing 
 some corns on the cob?\n\n12. What long-running athlete did little Alex de
 liberately trip up? (The answer rhymes with Slim Tit!)\n\n13. What complai
 nt was made about the drinks stop? A) There were no jelly babies? B) The P
 imms drinks were too small? C) Not enough fruit in the Pimms?\n\nRound Thr
 ee : Post-Hash\n\n14. Why did Squashed Balls go straight to the pub\, not 
 taking part in the hash at all? A) He was hungry and had already played sq
 uash that day\, so was very tired? B) He’s a woozie-woo!?\n\n15. What pu
 b did a few of the Plympton hashers have a drink in? A) The White Hart Inn
 ? B) The Exeter Inn? C) The Modbury Inn? D) All three?\n\n16. Why did Spot
 ty Botty pull out of being RA for the night? A) She’d swallowed a fly on
  the hash which gave her a sore throat? B) She was as drunk as a skunk!?\n
 \n17. Sixty-two meals were served by yours truly\, but which hashers came 
 back and paid for a second helping? A) Boaty? B) Lazy Git? C) Gomez? D) Ru
 bbery? E) All of them?\n\n18. Which hasher was last back to the pub\, but 
 was still lucky enough to get the last serving of chips? The answer is an 
 anagram of SLOW RATE.\n\n19. Which hasher needs to improve their handwriti
 ng skills? A) Goolie? B) Goolie? C) Goolie?\n\n20. What eight hashers rece
 ived down-downs? Their names have been changed somewhat! They were – PIM
 PLY REAR-END\, TINY COOK\, GIRL GOB OVER-FLOWING\, GARDEN MEAL\, JANE FOND
 A MOVIE\, THIN BISCUIT LIFTER\, HUNTING FOR LADS\, SHIPPY McSHIPMUG.\n\n21
 . What were Overshot\, Pinky and Boaty doing on their knees\, in the car-p
 ark\, in the dark\, late at night? A) Having a threesome? B) Dogging? C) F
 ixing Low-T’Arse  &amp\; Twisted Sister’s puncture?\n\nThus ends the 
 quiz. Answers are available for a small fee\, but do you really need them?
 \n\nOn-on! Top Shelf\n\n\n\n\n\n\n - \n\n\n\n\n\n\n\n\n\n\n\nThe Words Has
 h 1155\n\n\n\n\n\n\n\n\n\n\n\n\n\n\n\n\n\n\n\nHASH No. 1155. The Words acc
 ording to Top Shelf\n“We need someone to do the ‘Words’ tonight” s
 aid the ‘Words editor’ Flage-no-lay.\n“What letter are we on?” ask
 ed Overshot. ‘T’ was the reply.\n“The Jerk!” someone muttered\, bu
 t he declined!\n“Please God\,” I thought. “Please let me be invisibl
 e! Please let everyone forget that my hash name starts with a T”\, but e
 ver alert Marty looked me straight in the eye and blasted “Top Shelf sho
 uld do them!”\n(Oh dear God\, You’ve let me down yet again!)\n\nBecaus
 e I walked the trail I saw very little and heard even less\, and because I
  was serving the food at the pub I had no time to take notes or listen to 
 any ‘dirt’! So I knew I would have to rely on the R.A. Goolie’s note
 s\, or I should say ‘scribblings’!\n\nAnyway\, these Words are written
  in the form of a quiz\, because that’s what I do for The Modbury Inn\; 
 I write their weekly quiz (Which is held every Sunday at 8:30 by the way!)
 - Oops\, am I breaching the “No Business Advertising” rule???\n\nRound
  One : Pre-Hash\n1. Tiffany and Whisperer arrived at the car-park so early
  that they had time for pre-hash sustenance\, so off to the Exeter Inn the
 y went\, but which one of them had a pint of Stella?\n\n2. The three Merce
 des Sports cars parked next to each other (belonging to The Jerk\, Tiffany
 \, and Whisperer) looked great\, all sparkly and shiny\, but whose car had
  this comment said about it- “The inside of his car looks like a farmyar
 d!”?\n\n3. When the hare Barbie told us that we would be running through
  the site of a 1643 Civil War battle and we should look out for any old re
 lics\, why did everyone look at Bootsie?\n\n4. The long runners were told 
 that their run would be 6 miles\, but it was actually 7.2 miles. Was the h
 are being deceitful? YES / NO\n\n5. How much did Miss Mouthful’s colourf
 ul tights cost\, and where were they bought? A) £3 from Lidl?\nB) £30 fr
 om EBay? C) £500 from Harrods?\n\n6. Put these four groups in order accor
 ding to the number of each that attended the hash – South Hams hashers\,
  Plympton hashers\, children\, dogs!\n\n7. Now put them in order of their 
 average IQ levels.\n\nRound Two : The Hash\n\n8. What did 50 odd hashers c
 ause on reaching Modbury high road and running across the zebra crossing? 
 A) A riot? B) An earthquake? C) A traffic jam?\n\n9. Who hitched a lift on
  the back of a car on the hill leading out of the village? A) The Jerk? B)
  Boaty McBoatface? C) Ging-Gang?\n\n10. What caused a ‘hasher-jam’ at 
 the entrance to the first field? A) A dead cow? B) An old relic? C) A stil
 e?\n\n11. What was Little Chef accused of doing in the cornfield? A) Skipp
 ing and dancing while singing “Oh\, what a beautiful day!”? B) Taking 
 a quick No.1? C) Stealing some corns on the cob?\n\n12. What long-running 
 athlete did little Alex deliberately trip up? (The answer rhymes with Slim
  Tit!)\n\n13. What complaint was made about the drinks stop? A) There were
  no jelly babies? B) The Pimms drinks were too small? C) Not enough fruit 
 in the Pimms?\n\nRound Three : Post-Hash\n\n14. Why did Squashed Balls go 
 straight to the pub\, not taking part in the hash at all? A) He was hungry
  and had already played squash that day\, so was very tired? B) He’s a w
 oozie-woo!?\n\n15. What pub did a few of the Plympton hashers have a drink
  in? A) The White Hart Inn? B) The Exeter Inn? C) The Modbury Inn? D) All 
 three?\n\n16. Why did Spotty Botty pull out of being RA for the night? A) 
 She’d swallowed a fly on the hash which gave her a sore throat? B) She w
 as as drunk as a skunk!?\n\n17. Sixty-two meals were served by yours truly
 \, but which hashers came back and paid for a second helping? A) Boaty? B)
  Lazy Git? C) Gomez? D) Rubbery? E) All of them?\n\n18. Which hasher was l
 ast back to the pub\, but was still lucky enough to get the last serving o
 f chips? The answer is an anagram of SLOW RATE.\n\n19. Which hasher needs 
 to improve their handwriting skills? A) Goolie? B) Goolie? C) Goolie?\n\n2
 0. What eight hashers received down-downs? Their names have been changed s
 omewhat! They were – PIMPLY REAR-END\, TINY COOK\, GIRL GOB OVER-FLOWING
 \, GARDEN MEAL\, JANE FONDA MOVIE\, THIN BISCUIT LIFTER\, HUNTING FOR LADS
 \, SHIPPY McSHIPMUG.\n\n21. What were Overshot\, Pinky and Boaty doing on 
 their knees\, in the car-park\, in the dark\, late at night? A) Having a t
 hreesome? B) Dogging? C) Fixing Low-T’Arse  &amp\; Twisted Sister’s p
 uncture?\n\nThus ends the quiz. Answers are available for a small fee\, bu
 t do you really need them?\n\nOn-on! Top Shelf\n\n\n\n\n\n\n
CATEGORIES:Hash Trails
LOCATION:Modbury Inn Brownston Street\, Modbury\, Devon\, PL21 0RQ
GEO:50.350322;-3.886254
X-APPLE-STRUCTURED-LOCATION;VALUE=URI;X-ADDRESS=Brownston Street\, Modbury\
 , Devon\, PL21 0RQ\, United Kingdom;X-APPLE-RADIUS=100;X-TITLE=Modbury Inn
 :geo:50.350322,-3.886254
END:VEVENT
BEGIN:VTIMEZONE
TZID:Europe/London
X-LIC-LOCATION:Europe/London
BEGIN:DAYLIGHT
DTSTART:20180325T020000
TZOFFSETFROM:+0000
TZOFFSETTO:+0100
TZNAME:BST
END:DAYLIGHT
END:VTIMEZONE
END:VCALENDAR