BEGIN:VCALENDAR
VERSION:2.0
PRODID:-//wp-events-plugin.com//7.2.3.1//EN
TZID:Europe/London
X-WR-TIMEZONE:Europe/London
BEGIN:VEVENT
UID:182@sh4.org.uk
DTSTART;TZID=Europe/London:20180815T193000
DTEND;TZID=Europe/London:20180815T230000
DTSTAMP:20181113T195608Z
URL:https://www.sh4.org.uk/events/hash-1156/
SUMMARY:South Hams H4 Hash 1156 - Fortescue Arms
DESCRIPTION:\n\n\n\n\n\n\n\n\n\n\n\nThe Words Hash 1156  - East Allington\
 n\n\n\n\n\n\n\n\n\n\n\n\n\n\n\n\n\n\n\nTurned up at the Fortescue\, East A
 lington. There were many dogs and kid virgins\, a new shy virgin from New 
 Zealand and some other bloke who was a virgin too. I tried to get out of d
 oing the words by pointing out (rightly) that Tyred Bunny was before me in
  the alphabet.\n\nYet more history of East Allington from Overshot and the
 n he added to it with some “interesting” facts about the name of the p
 ub\, next thing I knew I was woken up by Hashers setting off for the run.\
 n\nThe Hares did a good job and I didn’t find myself getting lost\, it w
 as suggested that possibly the hash had been laid by car and quad\, but we
  were led to believe that the quad was in for a service.\n\nLooked like th
 ere was a race between Poacher and Rear Entry\, both with dogs\, too far i
 n front for me to see who won\, but I guessed it was Rear Entry because wh
 en we got to the pub Poacher was talking about how he was a lot older now 
 and was much faster in his day.\n\nThere was dog abuse and dog pampering a
 nd Prawn Star's dog even had jingle bells on its collar. Sushi got hit in 
 the balls by a dog and was later wearing an exquisite posh robe to get cha
 nged in to recover. There was a drink stop with Gin and Tonic\, coke and l
 emonade and loads of different flavoured crips\, the lemonade and coke wer
 e hardly touched.\n\nThere was a naming of a new hasher\, Streaky S.H.I.T\
 , because he has streaky hair and works in the South Hams in IT.\n\nIt was
  Cow Pats 1000th run and she was given a special 1000 hoody with a cow he
 ad on it. There have been 1156 South Hams Hashes\, so her attendance since
  the start has been 86.5051903%.\n\n\nDown Downs went to\n\nCow Pat – fo
 r 1000 runs\nNice Buns – Hare\nPimples – Hare\nRunning Late - Birthday
 \nTraffic Jam – Birthday\nStreaky S.H.I.T – for being named\nThe New Z
 ealand Virgin – for being a virgin\n\n\nLots of big sausage jokes in the
  pub\, and more of the same humour after the Adams family gave away a load
  of cucumbers and tomatoes. The only writing I can make out from Oovershot
 s notes is “Miss mouthful – big sausage jokes”\n\nOn On next week to
  Shiply Bridge and then On Down at the Pack Horse Inn afterwards\n\n\n\n\n
 \n\n - \n\n\n\n\n\n\n\n\n\n\n\nThe Words Hash 1156  - East Allington\n\n\
 n\n\n\n\n\n\n\n\n\n\n\n\n\n\n\n\n\nTurned up at the Fortescue\, East Aling
 ton. There were many dogs and kid virgins\, a new shy virgin from New Zeal
 and and some other bloke who was a virgin too. I tried to get out of doing
  the words by pointing out (rightly) that Tyred Bunny was before me in the
  alphabet.\n\nYet more history of East Allington from Overshot and then he
  added to it with some “interesting” facts about the name of the pub\,
  next thing I knew I was woken up by Hashers setting off for the run.\n\nT
 he Hares did a good job and I didn’t find myself getting lost\, it was s
 uggested that possibly the hash had been laid by car and quad\, but we wer
 e led to believe that the quad was in for a service.\n\nLooked like there 
 was a race between Poacher and Rear Entry\, both with dogs\, too far in fr
 ont for me to see who won\, but I guessed it was Rear Entry because when w
 e got to the pub Poacher was talking about how he was a lot older now and 
 was much faster in his day.\n\nThere was dog abuse and dog pampering and P
 rawn Star's dog even had jingle bells on its collar. Sushi got hit in the 
 balls by a dog and was later wearing an exquisite posh robe to get changed
  in to recover. There was a drink stop with Gin and Tonic\, coke and lemon
 ade and loads of different flavoured crips\, the lemonade and coke were ha
 rdly touched.\n\nThere was a naming of a new hasher\, Streaky S.H.I.T\, be
 cause he has streaky hair and works in the South Hams in IT.\n\nIt was Cow
  Pats 1000th run and she was given a special 1000 hoody with a cow head o
 n it. There have been 1156 South Hams Hashes\, so her attendance since the
  start has been 86.5051903%.\n\n\nDown Downs went to\n\nCow Pat – for 10
 00 runs\nNice Buns – Hare\nPimples – Hare\nRunning Late - Birthday\nTr
 affic Jam – Birthday\nStreaky S.H.I.T – for being named\nThe New Zeala
 nd Virgin – for being a virgin\n\n\nLots of big sausage jokes in the pub
 \, and more of the same humour after the Adams family gave away a load of 
 cucumbers and tomatoes. The only writing I can make out from Oovershots no
 tes is “Miss mouthful – big sausage jokes”\n\nOn On next week to Shi
 ply Bridge and then On Down at the Pack Horse Inn afterwards\n\n\n\n\n\n\n
CATEGORIES:Hash Trails
LOCATION:Fortescue Arms Green Hill\, East Allington\, Devon\, TQ9 7RA\, Dev
 on
GEO:50.323264;-3.731448
X-APPLE-STRUCTURED-LOCATION;VALUE=URI;X-ADDRESS=Green Hill\, East Allington
 \, Devon\, TQ9 7RA\, Devon\, United Kingdom;X-APPLE-RADIUS=100;X-TITLE=For
 tescue Arms:geo:50.323264,-3.731448
END:VEVENT
BEGIN:VTIMEZONE
TZID:Europe/London
X-LIC-LOCATION:Europe/London
BEGIN:DAYLIGHT
DTSTART:20180325T020000
TZOFFSETFROM:+0000
TZOFFSETTO:+0100
TZNAME:BST
END:DAYLIGHT
END:VTIMEZONE
END:VCALENDAR