BEGIN:VCALENDAR
VERSION:2.0
PRODID:-//wp-events-plugin.com//7.2.3.1//EN
TZID:Europe/London
X-WR-TIMEZONE:Europe/London
BEGIN:VEVENT
UID:184@sh4.org.uk
DTSTART;TZID=Europe/London:20180829T193000
DTEND;TZID=Europe/London:20180829T230000
DTSTAMP:20181113T195800Z
URL:https://www.sh4.org.uk/events/hash-1158/
SUMMARY:South Hams H4 Hash 1158 - Pig's Nose Inn
DESCRIPTION:Please No Chip Gate again!!\n\nBring a head torch!\n\n\n\n\n\n\
 n\n\n\n\n\n\nThe Words according to Willy Waiver\n\n\n\n\n\n\n\n\n\n\n\n\n
 \n\n\n\n\n\n\nSo it was on on to East Prawle\, where to everyones relief B
 it of Ruff had arrived safely from Cornwood.\n\nI am afraid I missed the c
 ircle up\, not a good start for a scribe\, but with hindsight well worth i
 t. I was moving my car to a safe parking space outside the pub\, thereby p
 ossibly avoiding Squash Balls fate of having to buy an angry farmer diner 
 in an effort to calm him down over irresponsible parking. There were a goo
 d number of virgins and visitors. Too far for Plympton to come\, but one c
 ouple had made it from Brighton for their 10th Hash in 10 days. They were 
 discussing whether to make it 11 in 11 but thought they might have a coupl
 e of days holiday instead. As Goolie pointed out they had probably also ru
 n out of free hashes.\n\nThe hash was excellent from the start\, brilliant
 ly planned\, not much road\, varied terrain\, fantastic views etc. etc. Fo
 r balance I should point out that anyone who did the long laid by Traffic 
 Jam and your correspondent last summer might have had a slight feeling of 
 deja vu. When confronted Re-entry denied any recollection of this. We will
  give him the benefit of the doubt\, a holiday or other engagement\, proba
 bly not senility\, or heaven forbid ‘mis-speaking’.\n\nFor the sake of
  briefness the differences from last year:\n\n1              
 There was a fishhook\, brilliantly drawn but according to Punctilious poin
 ting the wrong way. Overshot doesn’t like fishhooks and allegedly lay do
 wn on it to hide it from the rest of the hash. As far as I could see this 
 tactic didn’t work\, he must have accidentally caught himself and a few 
 other FRBs\, certainly everyone the hares had hoped to catch\, who were RU
 NNING back up the hill as we cruised down.\n\n2              
 At Elender Cove instead of going up the cliff for a beer stop it was down
  the cliff for a swim\, definitely more healthy. Here we were surprised to
  find Rubbery sitting serenely Buddha like on a rock\, apparently he had m
 ade the journey in the hope of snapping topless Harriets. Whatever he seem
 ed content. While here one of the virgins Ben was spotted RUNNING back up 
 the track from the cove\, another Derrick apparently did it twice. Watch o
 ut the FRBs if they come back. There were also rumours starting to circula
 te of outrageous short cutting by committee members.\n\nAnd so back to the
  pub where sadly the rumours were confirmed. In fairness Dimmers and Overs
 hot probably just wanted to make sure they got to the pub this week\, but 
 they all missed a fine view and swim.\n\nIt was a busy night for the RA wi
 th 3 namings\,  birthdays aplenty\, a 300 T shirt for Lazy Git\, who made
  it eventually I had forgotten to tell him I’d moved the car\, and the p
 resentation of a bottle of wine each for Overshot and Dimwit for their her
 oic search and rescue efforts last week.\n\nThe Down Downs went to\nSex Wa
 x formerly known as Joy\nCrazy Legs formerly known as Aiden\nMidget former
 ly known as Sam\nLazy Git 300 hashes\nLittle Pinky hare and birthday got a
  good glass of wine instead of 2 halves\nCrackerjack 7th birthday\, but se
 ems to have been stepping up for down downs for years\nand Re-entry hare\n
 \nAnd its on on to AG\n\n\n\n\n\n\n - Please No Chip Gate again!!\n\nBring
  a head torch!\n\n\n\n\n\n\n\n\n\n\n\n\nThe Words according to Willy Waive
 r\n\n\n\n\n\n\n\n\n\n\n\n\n\n\n\n\n\n\n\nSo it was on on to East Prawle\, 
 where to everyones relief Bit of Ruff had arrived safely from Cornwood.\n\
 nI am afraid I missed the circle up\, not a good start for a scribe\, but 
 with hindsight well worth it. I was moving my car to a safe parking space 
 outside the pub\, thereby possibly avoiding Squash Balls fate of having to
  buy an angry farmer diner in an effort to calm him down over irresponsibl
 e parking. There were a good number of virgins and visitors. Too far for P
 lympton to come\, but one couple had made it from Brighton for their 10th 
 Hash in 10 days. They were discussing whether to make it 11 in 11 but thou
 ght they might have a couple of days holiday instead. As Goolie pointed ou
 t they had probably also run out of free hashes.\n\nThe hash was excellent
  from the start\, brilliantly planned\, not much road\, varied terrain\, f
 antastic views etc. etc. For balance I should point out that anyone who di
 d the long laid by Traffic Jam and your correspondent last summer might ha
 ve had a slight feeling of deja vu. When confronted Re-entry denied any re
 collection of this. We will give him the benefit of the doubt\, a holiday 
 or other engagement\, probably not senility\, or heaven forbid ‘mis-spea
 king’.\n\nFor the sake of briefness the differences from last year:\n\n1
               There was a fishhook\, brilliantly drawn but ac
 cording to Punctilious pointing the wrong way. Overshot doesn’t like fis
 hhooks and allegedly lay down on it to hide it from the rest of the hash. 
 As far as I could see this tactic didn’t work\, he must have accidentall
 y caught himself and a few other FRBs\, certainly everyone the hares had h
 oped to catch\, who were RUNNING back up the hill as we cruised down.\n\n2
               At Elender Cove instead of going up the cliff 
 for a beer stop it was down the cliff for a swim\, definitely more healthy
 . Here we were surprised to find Rubbery sitting serenely Buddha like on a
  rock\, apparently he had made the journey in the hope of snapping topless
  Harriets. Whatever he seemed content. While here one of the virgins Ben w
 as spotted RUNNING back up the track from the cove\, another Derrick appar
 ently did it twice. Watch out the FRBs if they come back. There were also 
 rumours starting to circulate of outrageous short cutting by committee mem
 bers.\n\nAnd so back to the pub where sadly the rumours were confirmed. In
  fairness Dimmers and Overshot probably just wanted to make sure they got 
 to the pub this week\, but they all missed a fine view and swim.\n\nIt was
  a busy night for the RA with 3 namings\,  birthdays aplenty\, a 300 T sh
 irt for Lazy Git\, who made it eventually I had forgotten to tell him I’
 d moved the car\, and the presentation of a bottle of wine each for Oversh
 ot and Dimwit for their heroic search and rescue efforts last week.\n\nThe
  Down Downs went to\nSex Wax formerly known as Joy\nCrazy Legs formerly kn
 own as Aiden\nMidget formerly known as Sam\nLazy Git 300 hashes\nLittle Pi
 nky hare and birthday got a good glass of wine instead of 2 halves\nCracke
 rjack 7th birthday\, but seems to have been stepping up for down downs for
  years\nand Re-entry hare\n\nAnd its on on to AG\n\n\n\n\n\n\n
CATEGORIES:Hash Trails
LOCATION:Pig's Nose Inn The Green\, East Prawle\, Devon\, TQ7 2BY
GEO:50.215038;-3.709322
X-APPLE-STRUCTURED-LOCATION;VALUE=URI;X-ADDRESS=The Green\, East Prawle\, D
 evon\, TQ7 2BY\, United Kingdom;X-APPLE-RADIUS=100;X-TITLE=Pig's Nose Inn:
 geo:50.215038,-3.709322
END:VEVENT
BEGIN:VTIMEZONE
TZID:Europe/London
X-LIC-LOCATION:Europe/London
BEGIN:DAYLIGHT
DTSTART:20180325T020000
TZOFFSETFROM:+0000
TZOFFSETTO:+0100
TZNAME:BST
END:DAYLIGHT
END:VTIMEZONE
END:VCALENDAR